Workbook

Sheet پشتی خودی طبی
C4: لوگو وزارت | K4: لوگوی پوهنتون
A5: وزارت تحصیلات عالی
A6: معینیت علمی
A7: ریاست تضمین کیفیت و اعتباردهی
A8: آمریت اعتباردهی نهادهای تحصیلات عالی
A13: اسم پوهنتون درج گردد
A14: موقعیت دقیق پوهنتون درج گردد
A19: گزارش ارزیابی خودی
A20: مرحلۀ ... اعتباردهی
C26: تاریخ ارزیابی: | D26: 1400/11/11 | E26: الی | F26: 1400/11/12
F33: چارچوب تائید شده جلسه مورخ 1403/09/04 شماره (30) بورد تضمین کیفیت و اعتباردهی و منظور شده حکم شماره 406 مورخ 1447/01/07 مقام وزارت تحصیلات عالی
B39: فهرست
B40: ='گزارش خودی طبی'!B7 -> تحلیل نمرات نهایی گزارش ارزیابی خودی | F40: …………………………………………………………………………………………………………… | L40: 2
B41: ='گزارش خودی طبی'!B33 -> اطلاعات در مورد تماس با پوهنتون | F41: ……………………………………………………………………………………………………………
B42: ='گزارش خودی طبی'!B41 -> تماس ابتدائی با پوهنتون حین بازنگری مسلکی | F42: ……………………………………………………………………………………………………………
B43: ='گزارش خودی طبی'!B46 -> مقدمه | F43: ……………………………………………………………………………………………………………
B44: ='گزارش خودی طبی'!B52 -> تعریفات | F44: ……………………………………………………………………………………………………………
B45: ='گزارش خودی طبی'!B61 -> نحوه نمره‌دهی چارچوب اعتباردهی به پوهنتون‌های‌که رشته‌های طبی دارند در پروسه بازنگری و ارزیابی خودی | F45: ……………………………………………………………………………………………………………
B46: ='گزارش خودی طبی'!B107 -> بدیل کلمات خارجی در این چارچوب | F46: ……………………………………………………………………………………………………………
B47: ='گزارش خودی طبی'!B135 -> معلومات در مورد سوابق پوهنتون | F47: ……………………………………………………………………………………………………………
B48: ='گزارش خودی طبی'!B162 -> دیدگاه و مأموریت پوهنتون | F48: ……………………………………………………………………………………………………………
B49: ='گزارش خودی طبی'!B174 -> حقایق و ارقام | F49: ……………………………………………………………………………………………………………
B50: ='گزارش خودی طبی'!B299 -> ساختار سازمانی و کمیته‌ها | F50: ……………………………………………………………………………………………………………
B51: ='گزارش خودی طبی'!B313 -> معلومات راجع به ارتقای کیفیت | F51: ……………………………………………………………………………………………………………
B52: ='گزارش خودی طبی'!B364 -> مدارک دقیق حمایوی | F52: ……………………………………………………………………………………………………………
B53: ='گزارش خودی طبی'!H9 -> دیدگاه، مأموریت و پلان گذاری استراتیژیک | F53: ……………………………………………………………………………………………………………
B54: ='گزارش خودی طبی'!H10 -> سهم‌ پوهنتون در انکشاف جامعه و تطبیق پالیسی‌های نظام | F54: ……………………………………………………………………………………………………………
B55: ='گزارش خودی طبی'!H11 -> رهبری و اداره | F55: ……………………………………………………………………………………………………………
B56: ='گزارش خودی طبی'!H12 -> منابع مالی و مدیریت آن | F56: ……………………………………………………………………………………………………………
B57: ='گزارش خودی طبی'!H13 -> برنامه‌های علمی | F57: ……………………………………………………………………………………………………………
B58: ='گزارش خودی طبی'!H14 -> تحقیق | F58: ……………………………………………………………………………………………………………
B59: ='گزارش خودی طبی'!H15 -> استادان و کارمندان | F59: ……………………………………………………………………………………………………………
B60: ='گزارش خودی طبی'!H16 -> تجارب محصل | F60: ……………………………………………………………………………………………………………
B61: ='گزارش خودی طبی'!H17 -> بهبود و ارتقای کیفیت | F61: ……………………………………………………………………………………………………………
B62: ='گزارش خودی طبی'!H18 -> کتابخانه و منابع معلوماتی | F62: ……………………………………………………………………………………………………………
B63: ='گزارش خودی طبی'!H19 -> زیربنا، تسهیلات تدریسی و تکنالوژی معلوماتی | F63: ……………………………………………………………………………………………………………
B64: ='گزارش خودی طبی'!F20 -> ضمیمه شماره (1) معیارهای فرعی پوهنځی طب: وضاحت این ضمیمه در بخش تعریفات ذکر شده است. | F64: ……………………………………………………………………………………………………………

Sheet گزارش خودی طبی
C1: لوگوی وزارت | J1: لوگوی پوهنتون
A2: وزارت تحصیلات عالی
A3: معینیت علمی
A4: ریاست تضمین کیفیت و اعتباردهی
A5: آمریت اعتباردهی نهادهای تحصیلات عالی
A6: ='پشتی خودی طبی'!A13 -> اسم پوهنتون درج گردد | G6: ='پشتی خودی طبی'!A14 -> موقعیت دقیق پوهنتون درج گردد | I6: ='پشتی خودی طبی'!C26 -> تاریخ ارزیابی: | L6: ='پشتی خودی طبی'!D26 -> 1400/11/11 | M6: ='پشتی خودی طبی'!F26 -> 1400/11/12
A7: 1 | B7: تحلیل نمرات نهایی گزارش ارزیابی خودی
F8: شماره | H8: معیار اصلی | I8: فیصدی معیارها | J8: نمرۀ معیارها | L8: فیصدی حاصلۀ توسط پوهنتون | M8: نمره حاصلۀ توسط پوهنتون
B9: =IF(AND(L9>=50%,L9<=100%),"کسب مرحله اول اعتباردهی",IF(AND(L9>=0%,L9<50%),"عدم کسب مرحله اول اعتباردهی")) -> عدم کسب مرحله اول اعتباردهی | C9: =IF(AND(L9>=60%,L9<=100%),"کسب مرحله دوم اعتباردهی",IF(AND(L9>=0%,L9<60%),"عدم کسب مرحله دوم اعتباردهی")) -> عدم کسب مرحله دوم اعتباردهی | D9: =IF(AND(L9>=80%,L9<=100%),"کسب مرحله سوم اعتباردهی",IF(AND(L9>=0%,L9<80%),"عدم کسب مرحله سوم اعتباردهی")) -> عدم کسب مرحله سوم اعتباردهی | F9: 1 | H9: دیدگاه، مأموریت و پلان گذاری استراتیژیک | I9: 0.08 | J9: =I425 -> 96 | L9: =(M9/J9)*1 -> 0 | M9: =M425 -> 0
B10: =IF(AND(L10>=50%,L10<=100%),"کسب مرحله اول اعتباردهی",IF(AND(L10>=0%,L10<50%),"عدم کسب مرحله اول اعتباردهی")) -> عدم کسب مرحله اول اعتباردهی | C10: =IF(AND(L10>=60%,L10<=100%),"کسب مرحله دوم اعتباردهی",IF(AND(L10>=0%,L10<60%),"عدم کسب مرحله دوم اعتباردهی")) -> عدم کسب مرحله دوم اعتباردهی | D10: =IF(AND(L10>=80%,L10<=100%),"کسب مرحله سوم اعتباردهی",IF(AND(L10>=0%,L10<80%),"عدم کسب مرحله سوم اعتباردهی")) -> عدم کسب مرحله سوم اعتباردهی | F10: 2 | H10: سهم‌ پوهنتون در انکشاف جامعه و تطبیق پالیسی‌های نظام | I10: 0.08 | J10: =I544 -> 46 | L10: =(M10/J10)*1 -> 0 | M10: =M544 -> 0
B11: =IF(AND(L11>=50%,L11<=100%),"کسب مرحله اول اعتباردهی",IF(AND(L11>=0%,L11<50%),"عدم کسب مرحله اول اعتباردهی")) -> عدم کسب مرحله اول اعتباردهی | C11: =IF(AND(L11>=60%,L11<=100%),"کسب مرحله دوم اعتباردهی",IF(AND(L11>=0%,L11<60%),"عدم کسب مرحله دوم اعتباردهی")) -> عدم کسب مرحله دوم اعتباردهی | D11: =IF(AND(L11>=80%,L11<=100%),"کسب مرحله سوم اعتباردهی",IF(AND(L11>=0%,L11<80%),"عدم کسب مرحله سوم اعتباردهی")) -> عدم کسب مرحله سوم اعتباردهی | F11: 3 | H11: رهبری و اداره | I11: 0.07 | J11: =I589 -> 48 | L11: =(M11/J11)*1 -> 0 | M11: =M589 -> 0
B12: =IF(AND(L12>=40%,L12<=100%),"کسب مرحله اول اعتباردهی",IF(AND(L12>=0%,L12<40%),"عدم کسب مرحله اول اعتباردهی")) -> عدم کسب مرحله اول اعتباردهی | C12: =IF(AND(L12>=50%,L12<=100%),"کسب مرحله دوم اعتباردهی",IF(AND(L12>=0%,L12<50%),"عدم کسب مرحله دوم اعتباردهی")) -> عدم کسب مرحله دوم اعتباردهی | D12: =IF(AND(L12>=70%,L12<=100%),"کسب مرحله سوم اعتباردهی",IF(AND(L12>=0%,L12<70%),"عدم کسب مرحله سوم اعتباردهی")) -> عدم کسب مرحله سوم اعتباردهی | F12: 4 | H12: منابع مالی و مدیریت آن | I12: 0.08 | J12: =I658 -> 47 | L12: =(M12/J12)*1 -> 0 | M12: =M658 -> 0
B13: =IF(AND(L13>=40%,L13<=100%),"کسب مرحله اول اعتباردهی",IF(AND(L13>=0%,L13<40%),"عدم کسب مرحله اول اعتباردهی")) -> عدم کسب مرحله اول اعتباردهی | C13: =IF(AND(L13>=50%,L13<=100%),"کسب مرحله دوم اعتباردهی",IF(AND(L13>=0%,L13<50%),"عدم کسب مرحله دوم اعتباردهی")) -> عدم کسب مرحله دوم اعتباردهی | D13: =IF(AND(L13>=80%,L13<=100%),"کسب مرحله سوم اعتباردهی",IF(AND(L13>=0%,L13<80%),"عدم کسب مرحله سوم اعتباردهی")) -> عدم کسب مرحله سوم اعتباردهی | F13: 5 | H13: برنامه‌های علمی | I13: 0.14 | J13: =I713 -> 105 | L13: =(M13/J13)*1 -> 0 | M13: =M713 -> 0
B14: =IF(AND(L14>=30%,L14<=100%),"کسب مرحله اول اعتباردهی",IF(AND(L14>=0%,L14<30%),"عدم کسب مرحله اول اعتباردهی")) -> عدم کسب مرحله اول اعتباردهی | C14: =IF(AND(L14>=50%,L14<=100%),"کسب مرحله دوم اعتباردهی",IF(AND(L14>=0%,L14<50%),"عدم کسب مرحله دوم اعتباردهی")) -> عدم کسب مرحله دوم اعتباردهی | D14: =IF(AND(L14>=70%,L14<=100%),"کسب مرحله سوم اعتباردهی",IF(AND(L14>=0%,L14<70%),"عدم کسب مرحله سوم اعتباردهی")) -> عدم کسب مرحله سوم اعتباردهی | F14: 6 | H14: تحقیق | I14: 0.1 | J14: =I822 -> 96 | L14: =(M14/J14)*1 -> 0 | M14: =M822 -> 0
B15: =IF(AND(L15>=50%,L15<=100%),"کسب مرحله اول اعتباردهی",IF(AND(L15>=0%,L15<50%),"عدم کسب مرحله اول اعتباردهی")) -> عدم کسب مرحله اول اعتباردهی | C15: =IF(AND(L15>=60%,L15<=100%),"کسب مرحله دوم اعتباردهی",IF(AND(L15>=0%,L15<60%),"عدم کسب مرحله دوم اعتباردهی")) -> عدم کسب مرحله دوم اعتباردهی | D15: =IF(AND(L15>=80%,L15<=100%),"کسب مرحله سوم اعتباردهی",IF(AND(L15>=0%,L15<80%),"عدم کسب مرحله سوم اعتباردهی")) -> عدم کسب مرحله سوم اعتباردهی | F15: 7 | H15: استادان و کارمندان | I15: 0.09 | J15: =I903 -> 90 | L15: =(M15/J15)*1 -> 0 | M15: =M903 -> 0
B16: =IF(AND(L16>=40%,L16<=100%),"کسب مرحله اول اعتباردهی",IF(AND(L16>=0%,L16<40%),"عدم کسب مرحله اول اعتباردهی")) -> عدم کسب مرحله اول اعتباردهی | C16: =IF(AND(L16>=50%,L16<=100%),"کسب مرحله دوم اعتباردهی",IF(AND(L16>=0%,L16<50%),"عدم کسب مرحله دوم اعتباردهی")) -> عدم کسب مرحله دوم اعتباردهی | D16: =IF(AND(L16>=80%,L16<=100%),"کسب مرحله سوم اعتباردهی",IF(AND(L16>=0%,L16<80%),"عدم کسب مرحله سوم اعتباردهی")) -> عدم کسب مرحله سوم اعتباردهی | F16: 8 | H16: تجارب محصل | I16: 0.08 | J16: =I1018 -> 91 | L16: =(M16/J16)*1 -> 0 | M16: =M1018 -> 0
B17: =IF(AND(L17>=50%,L17<=100%),"کسب مرحله اول اعتباردهی",IF(AND(L17>=0%,L17<50%),"عدم کسب مرحله اول اعتباردهی")) -> عدم کسب مرحله اول اعتباردهی | C17: =IF(AND(L17>=60%,L17<=100%),"کسب مرحله دوم اعتباردهی",IF(AND(L17>=0%,L17<60%),"عدم کسب مرحله دوم اعتباردهی")) -> عدم کسب مرحله دوم اعتباردهی | D17: =IF(AND(L17>=90%,L17<=100%),"کسب مرحله سوم اعتباردهی",IF(AND(L17>=0%,L17<90%),"عدم کسب مرحله سوم اعتباردهی")) -> عدم کسب مرحله سوم اعتباردهی | F17: 9 | H17: بهبود و ارتقای کیفیت | I17: 0.04 | J17: =I1111 -> 42 | L17: =(M17/J17)*1 -> 0 | M17: =M1111 -> 0
B18: =IF(AND(L18>=40%,L18<=100%),"کسب مرحله اول اعتباردهی",IF(AND(L18>=0%,L18<40%),"عدم کسب مرحله اول اعتباردهی")) -> عدم کسب مرحله اول اعتباردهی | C18: =IF(AND(L18>=50%,L18<=100%),"کسب مرحله دوم اعتباردهی",IF(AND(L18>=0%,L18<50%),"عدم کسب مرحله دوم اعتباردهی")) -> عدم کسب مرحله دوم اعتباردهی | D18: =IF(AND(L18>=80%,L18<=100%),"کسب مرحله سوم اعتباردهی",IF(AND(L18>=0%,L18<80%),"عدم کسب مرحله سوم اعتباردهی")) -> عدم کسب مرحله سوم اعتباردهی | F18: 10 | H18: کتابخانه و منابع معلوماتی | I18: 0.09 | J18: =I1160 -> 57 | L18: =(M18/J18)*1 -> 0 | M18: =M1160 -> 0
B19: =IF(AND(L19>=35%,L19<=100%),"کسب مرحله اول اعتباردهی",IF(AND(L19>=0%,L19<35%),"عدم کسب مرحله اول اعتباردهی")) -> عدم کسب مرحله اول اعتباردهی | C19: =IF(AND(L19>=50%,L19<=100%),"کسب مرحله دوم اعتباردهی",IF(AND(L19>=0%,L19<50%),"عدم کسب مرحله دوم اعتباردهی")) -> عدم کسب مرحله دوم اعتباردهی | D19: =IF(AND(L19>=80%,L19<=100%),"کسب مرحله سوم اعتباردهی",IF(AND(L19>=0%,L19<80%),"عدم کسب مرحله سوم اعتباردهی")) -> عدم کسب مرحله سوم اعتباردهی | F19: 11 | H19: زیربنا، تسهیلات تدریسی و تکنالوژی معلوماتی | I19: 0.15 | J19: =I1213 -> 156 | L19: =(M19/J19)*1 -> 0 | M19: =M1213 -> 0
B20: =IF(AND(L20>=40%,L20<=100%),"کسب مرحله اول اعتباردهی",IF(AND(L20>=0%,L20<40%),"عدم کسب مرحله اول اعتباردهی")) -> عدم کسب مرحله اول اعتباردهی | C20: =IF(AND(L20>=60%,L20<=100%),"کسب مرحله دوم اعتباردهی",IF(AND(L20>=0%,L20<60%),"عدم کسب مرحله دوم اعتباردهی")) -> عدم کسب مرحله دوم اعتباردهی | D20: =IF(AND(L20>=80%,L20<=100%),"کسب مرحله سوم اعتباردهی",IF(AND(L20>=0%,L20<80%),"عدم کسب مرحله سوم اعتباردهی")) -> عدم کسب مرحله سوم اعتباردهی | F20: ضمیمه شماره (1) معیارهای فرعی پوهنځی طب: وضاحت این ضمیمه در بخش تعریفات ذکر شده است. | I20: 0.15 | J20: =I1292 -> 242 | L20: =(M20/J20)*1 -> 0 | M20: =M1292 -> 0
F21: مجموع نمرات معیارهای اصلی | I21: =SUM(J9:K20) -> 1116
F22: مجموع فیصدی معیارهای اصلی | I22: =I21*1/I21 -> 1
F23: مجموع نمرات حاصله توسط پوهنتون | I23: =SUM(M9:M20) -> 0
F24: مجموع فیصدی حاصله توسط پوهنتون | I24: =I23*1/I21 -> 0
F25: وضعیت پوهنتون | I25: =IF(AND(COUNTIF(B9:B20,"کسب مرحله اول اعتباردهی")=12,I24>=65%,COUNTIF(C9:C20,"کسب مرحله دوم اعتباردهی")=12,I24>=75%,COUNTIF(D9:E20,"کسب مرحله سوم اعتباردهی")=12,I24>=85%), "کسب مرحله سوم اعتباردهی", IF(AND(COUNTIF(B9:B20,"کسب مرحله اول اعتباردهی")=12,I24>=65%,COUNTIF(C9:C20,"کسب مرحله دوم اعتباردهی")=12,I24>=75%), "کسب مرحله دوم اعتباردهی", IF(AND(COUNTIF(D9:E20,"کسب مرحله سوم اعتباردهی")=12,I24>=85%), "کسب مرحله سوم اعتباردهی", IF(AND(COUNTIF(B9:B20,"کسب مرحله اول اعتباردهی")=12,I24>=65%), "کسب مرحله اول اعتباردهی", "عدم کسب اعتباردهی")))) -> عدم کسب اعتباردهی
B26: تائید شده جلسه مورخ .... شماره () کمیته اصلی ارتقای کیفیت پوهنتون ....
B27: تائید شده جلسه مورخ .... شماره () شورای علمی پوهنتون ....
B28: با احترام | H28: با احترام
B29: اسم معاون امور علمی درج گردد | H29: اسم رئیس پوهنتون درج گردد
B30: معاون امور علمی پوهنتون ... | H30: رئیس پوهنتون ...
B31: مهر معاون امور علمی پوهنتون ... | H31: مهر پوهنتون
A33: 1 | B33: اطلاعات در مورد تماس با پوهنتون
A34: شماره | B34: تفصیل | E34: اسم | I34: شماره تماس
A35: 1 | B35: رئیس پوهنتون
A36: 2 | B36: معاون امور علمی یا معادل آن
A37: 3 | B37: آمر ارتقای کیفیت
A38: 4 | B38: ادرس پوهنتون
A39: 5 | B39: ولایت
A41: 2 | B41: تماس ابتدائی با پوهنتون حین بازنگری مسلکی
A42: وظیفه
...
