Workbook

Sheet پشتی خودی طبی
C4: لوگو وزارت | K4: لوگوی پوهنتون
A5: وزارت تحصیلات عالی
A6: معینیت علمی
A7: ریاست تضمین کیفیت و اعتباردهی
A8: آمریت اعتباردهی نهادهای تحصیلات عالی
A13: اسم پوهنتون درج گردد
A14: موقعیت دقیق پوهنتون درج گردد
A19: گزارش ارزیابی خودی
A20: مرحلۀ ... اعتباردهی
C26: تاریخ ارزیابی: | D26: 1400/11/11 | E26: الی | F26: 1400/11/12
F33: چارچوب تائید شده جلسه مورخ 1403/09/04 شماره (30) بورد تضمین کیفیت و اعتباردهی و منظور شده حکم شماره 406 مورخ 1447/01/07 مقام وزارت تحصیلات عالی
B39: فهرست
B40: ='گزارش خودی طبی'!B7 -> تحلیل نمرات نهایی گزارش ارزیابی خودی | F40: …………………………………………………………………………………………………………… | L40: 2
B41: ='گزارش خودی طبی'!B33 -> اطلاعات در مورد تماس با پوهنتون | F41: ……………………………………………………………………………………………………………
B42: ='گزارش خودی طبی'!B41 -> تماس ابتدائی با پوهنتون حین بازنگری مسلکی | F42: ……………………………………………………………………………………………………………
B43: ='گزارش خودی طبی'!B46 -> مقدمه | F43: ……………………………………………………………………………………………………………
B44: ='گزارش خودی طبی'!B52 -> تعریفات | F44: ……………………………………………………………………………………………………………
B45: ='گزارش خودی طبی'!B61 -> نحوه نمره‌دهی چارچوب اعتباردهی به پوهنتون‌های‌که رشته‌های طبی دارند در پروسه بازنگری و ارزیابی خودی | F45: ……………………………………………………………………………………………………………
B46: ='گزارش خودی طبی'!B107 -> بدیل کلمات خارجی در این چارچوب | F46: ……………………………………………………………………………………………………………
B47: ='گزارش خودی طبی'!B135 -> معلومات در مورد سوابق پوهنتون | F47: ……………………………………………………………………………………………………………
B48: ='گزارش خودی طبی'!B162 -> دیدگاه و مأموریت پوهنتون | F48: ……………………………………………………………………………………………………………
B49: ='گزارش خودی طبی'!B174 -> حقایق و ارقام | F49: ……………………………………………………………………………………………………………
B50: ='گزارش خودی طبی'!B299 -> ساختار سازمانی و کمیته‌ها | F50: ……………………………………………………………………………………………………………
B51: ='گزارش خودی طبی'!B313 -> معلومات راجع به ارتقای کیفیت | F51: ……………………………………………………………………………………………………………
B52: ='گزارش خودی طبی'!B364 -> مدارک دقیق حمایوی | F52: ……………………………………………………………………………………………………………
B53: ='گزارش خودی طبی'!H9 -> دیدگاه، مأموریت و پلان گذاری استراتیژیک | F53: ……………………………………………………………………………………………………………
B54: ='گزارش خودی طبی'!H10 -> سهم‌ پوهنتون در انکشاف جامعه و تطبیق پالیسی‌های نظام | F54: ……………………………………………………………………………………………………………
B55: ='گزارش خودی طبی'!H11 -> رهبری و اداره | F55: ……………………………………………………………………………………………………………
B56: ='گزارش خودی طبی'!H12 -> منابع مالی و مدیریت آن | F56: ……………………………………………………………………………………………………………
B57: ='گزارش خودی طبی'!H13 -> برنامه‌های علمی | F57: ……………………………………………………………………………………………………………
B58: ='گزارش خودی طبی'!H14 -> تحقیق | F58: ……………………………………………………………………………………………………………
B59: ='گزارش خودی طبی'!H15 -> استادان و کارمندان | F59: ……………………………………………………………………………………………………………
B60: ='گزارش خودی طبی'!H16 -> تجارب محصل | F60: ……………………………………………………………………………………………………………
B61: ='گزارش خودی طبی'!H17 -> بهبود و ارتقای کیفیت | F61: ……………………………………………………………………………………………………………
B62: ='گزارش خودی طبی'!H18 -> کتابخانه و منابع معلوماتی | F62: ……………………………………………………………………………………………………………
B63: ='گزارش خودی طبی'!H19 -> زیربنا، تسهیلات تدریسی و تکنالوژی معلوماتی | F63: ……………………………………………………………………………………………………………
B64: ='گزارش خودی طبی'!F20 -> ضمیمه شماره (1) معیارهای فرعی پوهنځی طب: وضاحت این ضمیمه در بخش تعریفات ذکر شده است. | F64: ……………………………………………………………………………………………………………

Sheet گزارش خودی طبی
C1: لوگوی وزارت | J1: لوگوی پوهنتون
A2: وزارت تحصیلات عالی
A3: معینیت علمی
A4: ریاست تضمین کیفیت و اعتباردهی
A5: آمریت اعتباردهی نهادهای تحصیلات عالی
A6: ='پشتی خودی طبی'!A13 -> اسم پوهنتون درج گردد | G6: ='پشتی خودی طبی'!A14 -> موقعیت دقیق پوهنتون درج گردد | I6: ='پشتی خودی طبی'!C26 -> تاریخ ارزیابی: | L6: ='پشتی خودی طبی'!D26 -> 1400/11/11 | M6: ='پشتی خودی طبی'!F26 -> 1400/11/12
A7: 1 | B7: تحلیل نمرات نهایی گزارش ارزیابی خودی
F8: شماره | H8: معیار اصلی | I8: فیصدی معیارها | J8: نمرۀ معیارها | L8: فیصدی حاصلۀ توسط پوهنتون | M8: نمره حاصلۀ توسط پوهنتون
B9: =IF(AND(L9>=50%,L9<=100%),"کسب مرحله اول اعتباردهی",IF(AND(L9>=0%,L9<50%),"عدم کسب مرحله اول اعتباردهی")) -> عدم کسب مرحله اول اعتباردهی | C9: =IF(AND(L9>=60%,L9<=100%),"کسب مرحله دوم اعتباردهی",IF(AND(L9>=0%,L9<60%),"عدم کسب مرحله دوم اعتباردهی")) -> عدم کسب مرحله دوم اعتباردهی | D9: =IF(AND(L9>=80%,L9<=100%),"کسب مرحله سوم اعتباردهی",IF(AND(L9>=0%,L9<80%),"عدم کسب مرحله سوم اعتباردهی")) -> عدم کسب مرحله سوم اعتباردهی | F9: 1 | H9: دیدگاه، مأموریت و پلان گذاری استراتیژیک | I9: 0.08 | J9: =I425 -> 96 | L9: =(M9/J9)*1 -> 0 | M9: =M425 -> 0
B10: =IF(AND(L10>=50%,L10<=100%),"کسب مرحله اول اعتباردهی",IF(AND(L10>=0%,L10<50%),"عدم کسب مرحله اول اعتباردهی")) -> عدم کسب مرحله اول اعتباردهی | C10: =IF(AND(L10>=60%,L10<=100%),"کسب مرحله دوم اعتباردهی",IF(AND(L10>=0%,L10<60%),"عدم کسب مرحله دوم اعتباردهی")) -> عدم کسب مرحله دوم اعتباردهی | D10: =IF(AND(L10>=80%,L10<=100%),"کسب مرحله سوم اعتباردهی",IF(AND(L10>=0%,L10<80%),"عدم کسب مرحله سوم اعتباردهی")) -> عدم کسب مرحله سوم اعتباردهی | F10: 2 | H10: سهم‌ پوهنتون در انکشاف جامعه و تطبیق پالیسی‌های نظام | I10: 0.08 | J10: =I544 -> 46 | L10: =(M10/J10)*1 -> 0 | M10: =M544 -> 0
B11: =IF(AND(L11>=50%,L11<=100%),"کسب مرحله اول اعتباردهی",IF(AND(L11>=0%,L11<50%),"عدم کسب مرحله اول اعتباردهی")) -> عدم کسب مرحله اول اعتباردهی | C11: =IF(AND(L11>=60%,L11<=100%),"کسب مرحله دوم اعتباردهی",IF(AND(L11>=0%,L11<60%),"عدم کسب مرحله دوم اعتباردهی")) -> عدم کسب مرحله دوم اعتباردهی | D11: =IF(AND(L11>=80%,L11<=100%),"کسب مرحله سوم اعتباردهی",IF(AND(L11>=0%,L11<80%),"عدم کسب مرحله سوم اعتباردهی")) -> عدم کسب مرحله سوم اعتباردهی | F11: 3 | H11: رهبری و اداره | I11: 0.07 | J11: =I589 -> 48 | L11: =(M11/J11)*1 -> 0 | M11: =M589 -> 0
B12: =IF(AND(L12>=40%,L12<=100%),"کسب مرحله اول اعتباردهی",IF(AND(L12>=0%,L12<40%),"عدم کسب مرحله اول اعتباردهی")) -> عدم کسب مرحله اول اعتباردهی | C12: =IF(AND(L12>=50%,L12<=100%),"کسب مرحله دوم اعتباردهی",IF(AND(L12>=0%,L12<50%),"عدم کسب مرحله دوم اعتباردهی")) -> عدم کسب مرحله دوم اعتباردهی | D12: =IF(AND(L12>=70%,L12<=100%),"کسب مرحله سوم اعتباردهی",IF(AND(L12>=0%,L12<70%),"عدم کسب مرحله سوم اعتباردهی")) -> عدم کسب مرحله سوم اعتباردهی | F12: 4 | H12: منابع مالی و مدیریت آن | I12: 0.08 | J12: =I658 -> 47 | L12: =(M12/J12)*1 -> 0 | M12: =M658 -> 0
B13: =IF(AND(L13>=40%,L13<=100%),"کسب مرحله اول اعتباردهی",IF(AND(L13>=0%,L13<40%),"عدم کسب مرحله اول اعتباردهی")) -> عدم کسب مرحله اول اعتباردهی | C13: =IF(AND(L13>=50%,L13<=100%),"کسب مرحله دوم اعتباردهی",IF(AND(L13>=0%,L13<50%),"عدم کسب مرحله دوم اعتباردهی")) -> عدم کسب مرحله دوم اعتباردهی | D13: =IF(AND(L13>=80%,L13<=100%),"کسب مرحله سوم اعتباردهی",IF(AND(L13>=0%,L13<80%),"عدم کسب مرحله سوم اعتباردهی")) -> عدم کسب مرحله سوم اعتباردهی | F13: 5 | H13: برنامه‌های علمی | I13: 0.14 | J13: =I713 -> 105 | L13: =(M13/J13)*1 -> 0 | M13: =M713 -> 0
B14: =IF(AND(L14>=30%,L14<=100%),"کسب مرحله اول اعتباردهی",IF(AND(L14>=0%,L14<30%),"عدم کسب مرحله اول اعتباردهی")) -> عدم کسب مرحله اول اعتباردهی | C14: =IF(AND(L14>=50%,L14<=100%),"کسب مرحله دوم اعتباردهی",IF(AND(L14>=0%,L14<50%),"عدم کسب مرحله دوم اعتباردهی")) -> عدم کسب مرحله دوم اعتباردهی | D14: =IF(AND(L14>=70%,L14<=100%),"کسب مرحله سوم اعتباردهی",IF(AND(L14>=0%,L14<70%),"عدم کسب مرحله سوم اعتباردهی")) -> عدم کسب مرحله سوم اعتباردهی | F14: 6 | H14: تحقیق | I14: 0.1 | J14: =I822 -> 96 | L14: =(M14/J14)*1 -> 0 | M14: =M822 -> 0
B15: =IF(AND(L15>=50%,L15<=100%),"کسب مرحله اول اعتباردهی",IF(AND(L15>=0%,L15<50%),"عدم کسب مرحله اول اعتباردهی")) -> عدم کسب مرحله اول اعتباردهی | C15: =IF(AND(L15>=60%,L15<=100%),"کسب مرحله دوم اعتباردهی",IF(AND(L15>=0%,L15<60%),"عدم کسب مرحله دوم اعتباردهی")) -> عدم کسب مرحله دوم اعتباردهی | D15: =IF(AND(L15>=80%,L15<=100%),"کسب مرحله سوم اعتباردهی",IF(AND(L15>=0%,L15<80%),"عدم کسب مرحله سوم اعتباردهی")) -> عدم کسب مرحله سوم اعتباردهی | F15: 7 | H15: استادان و کارمندان | I15: 0.09 | J15: =I903 -> 90 | L15: =(M15/J15)*1 -> 0 | M15: =M903 -> 0
B16: =IF(AND(L16>=40%,L16<=100%),"کسب مرحله اول اعتباردهی",IF(AND(L16>=0%,L16<40%),"عدم کسب مرحله اول اعتباردهی")) -> عدم کسب مرحله اول اعتباردهی | C16: =IF(AND(L16>=50%,L16<=100%),"کسب مرحله دوم اعتباردهی",IF(AND(L16>=0%,L16<50%),"عدم کسب مرحله دوم اعتباردهی")) -> عدم کسب مرحله دوم اعتباردهی | D16: =IF(AND(L16>=80%,L16<=100%),"کسب مرحله سوم اعتباردهی",IF(AND(L16>=0%,L16<80%),"عدم کسب مرحله سوم اعتباردهی")) -> عدم کسب مرحله سوم اعتباردهی | F16: 8 | H16: تجارب محصل | I16: 0.08 | J16: =I1018 -> 91 | L16: =(M16/J16)*1 -> 0 | M16: =M1018 -> 0
B17: =IF(AND(L17>=50%,L17<=100%),"کسب مرحله اول اعتباردهی",IF(AND(L17>=0%,L17<50%),"عدم کسب مرحله اول اعتباردهی")) -> عدم کسب مرحله اول اعتباردهی | C17: =IF(AND(L17>=60%,L17<=100%),"کسب مرحله دوم اعتباردهی",IF(AND(L17>=0%,L17<60%),"عدم کسب مرحله دوم اعتباردهی")) -> عدم کسب مرحله دوم اعتباردهی | D17: =IF(AND(L17>=90%,L17<=100%),"کسب مرحله سوم اعتباردهی",IF(AND(L17>=0%,L17<90%),"عدم کسب مرحله سوم اعتباردهی")) -> عدم کسب مرحله سوم اعتباردهی | F17: 9 | H17: بهبود و ارتقای کیفیت | I17: 0.04 | J17: =I1111 -> 42 | L17: =(M17/J17)*1 -> 0 | M17: =M1111 -> 0
B18: =IF(AND(L18>=40%,L18<=100%),"کسب مرحله اول اعتباردهی",IF(AND(L18>=0%,L18<40%),"عدم کسب مرحله اول اعتباردهی")) -> عدم کسب مرحله اول اعتباردهی | C18: =IF(AND(L18>=50%,L18<=100%),"کسب مرحله دوم اعتباردهی",IF(AND(L18>=0%,L18<50%),"عدم کسب مرحله دوم اعتباردهی")) -> عدم کسب مرحله دوم اعتباردهی | D18: =IF(AND(L18>=80%,L18<=100%),"کسب مرحله سوم اعتباردهی",IF(AND(L18>=0%,L18<80%),"عدم کسب مرحله سوم اعتباردهی")) -> عدم کسب مرحله سوم اعتباردهی | F18: 10 | H18: کتابخانه و منابع معلوماتی | I18: 0.09 | J18: =I1160 -> 57 | L18: =(M18/J18)*1 -> 0 | M18: =M1160 -> 0
B19: =IF(AND(L19>=35%,L19<=100%),"کسب مرحله اول اعتباردهی",IF(AND(L19>=0%,L19<35%),"عدم کسب مرحله اول اعتباردهی")) -> عدم کسب مرحله اول اعتباردهی | C19: =IF(AND(L19>=50%,L19<=100%),"کسب مرحله دوم اعتباردهی",IF(AND(L19>=0%,L19<50%),"عدم کسب مرحله دوم اعتباردهی")) -> عدم کسب مرحله دوم اعتباردهی | D19: =IF(AND(L19>=80%,L19<=100%),"کسب مرحله سوم اعتباردهی",IF(AND(L19>=0%,L19<80%),"عدم کسب مرحله سوم اعتباردهی")) -> عدم کسب مرحله سوم اعتباردهی | F19: 11 | H19: زیربنا، تسهیلات تدریسی و تکنالوژی معلوماتی | I19: 0.15 | J19: =I1213 -> 156 | L19: =(M19/J19)*1 -> 0 | M19: =M1213 -> 0
B20: =IF(AND(L20>=40%,L20<=100%),"کسب مرحله اول اعتباردهی",IF(AND(L20>=0%,L20<40%),"عدم کسب مرحله اول اعتباردهی")) -> عدم کسب مرحله اول اعتباردهی | C20: =IF(AND(L20>=60%,L20<=100%),"کسب مرحله دوم اعتباردهی",IF(AND(L20>=0%,L20<60%),"عدم کسب مرحله دوم اعتباردهی")) -> عدم کسب مرحله دوم اعتباردهی | D20: =IF(AND(L20>=80%,L20<=100%),"کسب مرحله سوم اعتباردهی",IF(AND(L20>=0%,L20<80%),"عدم کسب مرحله سوم اعتباردهی")) -> عدم کسب مرحله سوم اعتباردهی | F20: ضمیمه شماره (1) معیارهای فرعی پوهنځی طب: وضاحت این ضمیمه در بخش تعریفات ذکر شده است. | I20: 0.15 | J20: =I1292 -> 242 | L20: =(M20/J20)*1 -> 0 | M20: =M1292 -> 0
F21: مجموع نمرات معیارهای اصلی | I21: =SUM(J9:K20) -> 1116
F22: مجموع فیصدی معیارهای اصلی | I22: =I21*1/I21 -> 1
F23: مجموع نمرات حاصله توسط پوهنتون | I23: =SUM(M9:M20) -> 0
F24: مجموع فیصدی حاصله توسط پوهنتون | I24: =I23*1/I21 -> 0
F25: وضعیت پوهنتون | I25: =IF(AND(COUNTIF(B9:B20,"کسب مرحله اول اعتباردهی")=12,I24>=65%,COUNTIF(C9:C20,"کسب مرحله دوم اعتباردهی")=12,I24>=75%,COUNTIF(D9:E20,"کسب مرحله سوم اعتباردهی")=12,I24>=85%), "کسب مرحله سوم اعتباردهی", IF(AND(COUNTIF(B9:B20,"کسب مرحله اول اعتباردهی")=12,I24>=65%,COUNTIF(C9:C20,"کسب مرحله دوم اعتباردهی")=12,I24>=75%), "کسب مرحله دوم اعتباردهی", IF(AND(COUNTIF(D9:E20,"کسب مرحله سوم اعتباردهی")=12,I24>=85%), "کسب مرحله سوم اعتباردهی", IF(AND(COUNTIF(B9:B20,"کسب مرحله اول اعتباردهی")=12,I24>=65%), "کسب مرحله اول اعتباردهی", "عدم کسب اعتباردهی")))) -> عدم کسب اعتباردهی
B26: تائید شده جلسه مورخ .... شماره () کمیته اصلی ارتقای کیفیت پوهنتون ....
B27: تائید شده جلسه مورخ .... شماره () شورای علمی پوهنتون ....
B28: با احترام | H28: با احترام
B29: اسم معاون امور علمی درج گردد | H29: اسم رئیس پوهنتون درج گردد
B30: معاون امور علمی پوهنتون ... | H30: رئیس پوهنتون ...
B31: مهر معاون امور علمی پوهنتون ... | H31: مهر پوهنتون
A33: 1 | B33: اطلاعات در مورد تماس با پوهنتون
A34: شماره | B34: تفصیل | E34: اسم | I34: شماره تماس
A35: 1 | B35: رئیس پوهنتون
A36: 2 | B36: معاون امور علمی یا معادل آن
A37: 3 | B37: آمر ارتقای کیفیت
A38: 4 | B38: ادرس پوهنتون
A39: 5 | B39: ولایت
A41: 2 | B41: تماس ابتدائی با پوهنتون حین بازنگری مسلکی
A42: وظیفه
A43: شماره تماس
A44: ایمیل ادرس
A46: 3 | B46: مقدمه
A47: پیام رئیس پوهنتون پیرامون تکمیل گزارش ارزیابی خودی (سال )
A48: با احترام
A49: اسم رئیس پوهنتون ....
A50: رئیس پوهنتون ....
A52: 4 | B52: تعریفات
A53: فوری: پیشنهاد‌هایی که باید بطور عاجل تطبیق گردد؛
A54: متوسط: پیشنهاد‌هایی که باید در 6 ماه آینده تطبیق گردد؛
A55: غیرفوری: پیشنهاد‌هایی که باید در 12 ماه آینده تطبیق گردد.
A56: اعضای کمیتۀ‌های فرعی: عضویت نماینده هر رشته در کمیتۀ‌های فرعی پوهنځی‌های مربوطه الزامی است.
A57: اهدای نمرۀ شمارۀ (74) به پوهنتون‌های امارتی: نمرۀ شمارۀ یاد شده به پوهنتون‌های امارتی بدون در نظر داشت خواسته آن اهدا گردد.
A58: اهدای نمرۀ شمارۀ (261) به پوهنتون‌های خصوصی: نمرۀ شمارۀ یاد شده به پوهنتون‌های خصوصی بدون در نظر داشت خواسته آن اهدا گردد.
A59: تطبیق چارچوب در پوهنتون‌های که رشته‌های طبی دارند: علاوه بر معیارهای یازده‌گانه، ضمیمه شماره (1) شامل این چارچوب نیز در پوهنتون‌های که رشته‌های طبی دارند تطبیق می‌گردد. این معیارها بشکل جداگانه وضع شده که فیصدی سطون فیصدی معیارها در بخش تحلیل نمرات نهایی شامل مجموع فیصدی معیارهای اصلی نمی‌گردد. اما پوهنتون باید فیصدی (مرحله اول %40، مرحله دوم %60 و مرحله سوم %80) تعیین شده ضمیمه را که در بخش نحوه نمره‌دهی چارچوب اعتباردهی به پوهنتون‌های‌که رشته‌های طبی دارند در پروسه بازنگری و ارزیابی خودی را جهت کسب مراحل اعتباردهی اخذ نماید.
A61: 5 | B61: نحوه نمره‌دهی چارچوب اعتباردهی به پوهنتون‌های‌که رشته‌های طبی دارند در پروسه بازنگری و ارزیابی خودی
A62: مرحله اول: پوهنتون علاوه بر اخذ فیصدی تعیین شده مجموعی معیارها که %65 است باید فیصدی تعیین شده هر معیار را نیز ذیلاً کسب نماید
A63: شماره | B63: معیار اصلی | E63: فیصدی تعیین شده معیارهای اصلی | H63: نمره معیارهای اصلی | I63: فیصدی تعیین شده هر معیار برای مرحله اول | K63: فیصدی حاصلۀ توسط پوهنتون | M63: وضعیت پوهنتون در مرحلۀ اول
A64: =F9 -> 1 | B64: =H9 -> دیدگاه، مأموریت و پلان گذاری استراتیژیک | E64: =I9 -> 0.08 | H64: =J9 -> 96 | I64: 0.5 | K64: =(M9/J9)*1 -> 0 | M64: =IF(AND(K64>=0,K64<I64),"عدم کسب",IF(AND(K64>=I64),"+")) -> عدم کسب
A65: =F10 -> 2 | B65: =H10 -> سهم‌ پوهنتون در انکشاف جامعه و تطبیق پالیسی‌های نظام | E65: =I10 -> 0.08 | H65: =J10 -> 46 | I65: 0.5 | K65: =(M10/J10)*1 -> 0 | M65: =IF(AND(K77>=0,K65<I65),"عدم کسب",IF(AND(K65>=I65),"+")) -> عدم کسب
A66: =F11 -> 3 | B66: =H11 -> رهبری و اداره | E66: =I11 -> 0.07 | H66: =J11 -> 48 | I66: 0.5 | K66: =(M11/J11)*1 -> 0 | M66: =IF(AND(K78>=0,K66<I66),"عدم کسب",IF(AND(K66>=I66),"+")) -> عدم کسب
A67: =F12 -> 4 | B67: =H12 -> منابع مالی و مدیریت آن | E67: =I12 -> 0.08 | H67: =J12 -> 47 | I67: 0.4 | K67: =(M12/J12)*1 -> 0 | M67: =IF(AND(K79>=0,K67<I67),"عدم کسب",IF(AND(K67>=I67),"+")) -> عدم کسب
A68: =F13 -> 5 | B68: =H13 -> برنامه‌های علمی | E68: =I13 -> 0.14 | H68: =J13 -> 105 | I68: 0.4 | K68: =(M13/J13)*1 -> 0 | M68: =IF(AND(K80>=0,K68<I68),"عدم کسب",IF(AND(K68>=I68),"+")) -> عدم کسب
A69: =F14 -> 6 | B69: =H14 -> تحقیق | E69: =I14 -> 0.1 | H69: =J14 -> 96 | I69: 0.3 | K69: =(M14/J14)*1 -> 0 | M69: =IF(AND(K81>=0,K69<I69),"عدم کسب",IF(AND(K69>=I69),"+")) -> عدم کسب
A70: =F15 -> 7 | B70: =H15 -> استادان و کارمندان | E70: =I15 -> 0.09 | H70: =J15 -> 90 | I70: 0.5 | K70: =(M15/J15)*1 -> 0 | M70: =IF(AND(K82>=0,K70<I70),"عدم کسب",IF(AND(K70>=I70),"+")) -> عدم کسب
A71: =F16 -> 8 | B71: =H16 -> تجارب محصل | E71: =I16 -> 0.08 | H71: =J16 -> 91 | I71: 0.4 | K71: =(M16/J16)*1 -> 0 | M71: =IF(AND(K83>=0,K71<I71),"عدم کسب",IF(AND(K71>=I71),"+")) -> عدم کسب
A72: =F17 -> 9 | B72: =H17 -> بهبود و ارتقای کیفیت | E72: =I17 -> 0.04 | H72: =J17 -> 42 | I72: 0.5 | K72: =(M17/J17)*1 -> 0 | M72: =IF(AND(K84>=0,K72<I72),"عدم کسب",IF(AND(K72>=I72),"+")) -> عدم کسب
A73: =F18 -> 10 | B73: =H18 -> کتابخانه و منابع معلوماتی | E73: =I18 -> 0.09 | H73: =J18 -> 57 | I73: 0.4 | K73: =(M18/J18)*1 -> 0 | M73: =IF(AND(K85>=0,K73<I73),"عدم کسب",IF(AND(K73>=I73),"+")) -> عدم کسب
A74: =F19 -> 11 | B74: =H19 -> زیربنا، تسهیلات تدریسی و تکنالوژی معلوماتی | E74: =I19 -> 0.15 | H74: =J19 -> 156 | I74: 0.35 | K74: =(M19/J19)*1 -> 0 | M74: =IF(AND(K86>=0,K74<I74),"عدم کسب",IF(AND(K74>=I74),"+")) -> عدم کسب
A75: =F20 -> ضمیمه شماره (1) معیارهای فرعی پوهنځی طب: وضاحت این ضمیمه در بخش تعریفات ذکر شده است. | E75: =I20 -> 0.15 | H75: =J20 -> 242 | I75: 0.4 | K75: =(M20/J20)*1 -> 0 | M75: =IF(AND(K87>=0,K75<I75),"عدم کسب",IF(AND(K75>=I75),"+")) -> عدم کسب
A77: مرحله دوم: پوهنتون علاوه بر اخذ فیصدی تعیین شده مجموعی معیارها که %75 است باید فیصدی تعیین شده هر معیار را نیز ذیلاً کسب نماید
A78: شماره | B78: معیار اصلی | E78: فیصدی تعیین شده معیارهای اصلی | H78: نمره معیارهای اصلی | I78: فیصدی تعیین شده هر معیار برای مرحله دوم | K78: فیصدی حاصلۀ توسط پوهنتون | M78: وضعیت پوهنتون در مرحلۀ دوم
A79: =F9 -> 1 | B79: =H9 -> دیدگاه، مأموریت و پلان گذاری استراتیژیک | E79: =I9 -> 0.08 | H79: =J9 -> 96 | I79: 0.6 | K79: =(M9/J9)*1 -> 0 | M79: =IF(AND(K79>=0,K79<I79),"عدم کسب",IF(AND(K79>=I79),"+")) -> عدم کسب
A80: =F10 -> 2 | B80: =H10 -> سهم‌ پوهنتون در انکشاف جامعه و تطبیق پالیسی‌های نظام | E80: =I10 -> 0.08 | H80: =J10 -> 46 | I80: 0.6 | K80: =(M10/J10)*1 -> 0 | M80: =IF(AND(K80>=0,K80<I80),"عدم کسب",IF(AND(K80>=I80),"+")) -> عدم کسب
A81: =F11 -> 3 | B81: =H11 -> رهبری و اداره | E81: =I11 -> 0.07 | H81: =J11 -> 48 | I81: 0.6 | K81: =(M11/J11)*1 -> 0 | M81: =IF(AND(K81>=0,K81<I81),"عدم کسب",IF(AND(K81>=I81),"+")) -> عدم کسب
A82: =F12 -> 4 | B82: =H12 -> منابع مالی و مدیریت آن | E82: =I12 -> 0.08 | H82: =J12 -> 47 | I82: 0.5 | K82: =(M12/J12)*1 -> 0 | M82: =IF(AND(K82>=0,K82<I82),"عدم کسب",IF(AND(K82>=I82),"+")) -> عدم کسب
A83: =F13 -> 5 | B83: =H13 -> برنامه‌های علمی | E83: =I13 -> 0.14 | H83: =J13 -> 105 | I83: 0.5 | K83: =(M13/J13)*1 -> 0 | M83: =IF(AND(K83>=0,K83<I83),"عدم کسب",IF(AND(K83>=I83),"+")) -> عدم کسب
A84: =F14 -> 6 | B84: =H14 -> تحقیق | E84: =I14 -> 0.1 | H84: =J14 -> 96 | I84: 0.5 | K84: =(M14/J14)*1 -> 0 | M84: =IF(AND(K84>=0,K84<I84),"عدم کسب",IF(AND(K84>=I84),"+")) -> عدم کسب
A85: =F15 -> 7 | B85: =H15 -> استادان و کارمندان | E85: =I15 -> 0.09 | H85: =J15 -> 90 | I85: 0.6 | K85: =(M15/J15)*1 -> 0 | M85: =IF(AND(K85>=0,K85<I85),"عدم کسب",IF(AND(K85>=I85),"+")) -> عدم کسب
A86: =F16 -> 8 | B86: =H16 -> تجارب محصل | E86: =I16 -> 0.08 | H86: =J16 -> 91 | I86: 0.5 | K86: =(M16/J16)*1 -> 0 | M86: =IF(AND(K86>=0,K86<I86),"عدم کسب",IF(AND(K86>=I86),"+")) -> عدم کسب
A87: =F17 -> 9 | B87: =H17 -> بهبود و ارتقای کیفیت | E87: =I17 -> 0.04 | H87: =J17 -> 42 | I87: 0.6 | K87: =(M17/J17)*1 -> 0 | M87: =IF(AND(K87>=0,K87<I87),"عدم کسب",IF(AND(K87>=I87),"+")) -> عدم کسب
A88: =F18 -> 10 | B88: =H18 -> کتابخانه و منابع معلوماتی | E88: =I18 -> 0.09 | H88: =J18 -> 57 | I88: 0.5 | K88: =(M18/J18)*1 -> 0 | M88: =IF(AND(K88>=0,K88<I88),"عدم کسب",IF(AND(K88>=I88),"+")) -> عدم کسب
A89: =F19 -> 11 | B89: =H19 -> زیربنا، تسهیلات تدریسی و تکنالوژی معلوماتی | E89: =I19 -> 0.15 | H89: =J19 -> 156 | I89: 0.5 | K89: =(M19/J19)*1 -> 0 | M89: =IF(AND(K89>=0,K89<I89),"عدم کسب",IF(AND(K89>=I89),"+")) -> عدم کسب
A90: =F20 -> ضمیمه شماره (1) معیارهای فرعی پوهنځی طب: وضاحت این ضمیمه در بخش تعریفات ذکر شده است. | E90: =I20 -> 0.15 | H90: =J20 -> 242 | I90: 0.6 | K90: =(M20/J20)*1 -> 0 | M90: =IF(AND(K90>=0,K90<I90),"عدم کسب",IF(AND(K90>=I90),"+")) -> عدم کسب
A92: مرحله سوم: پوهنتون علاوه بر اخذ فیصدی تعیین شده مجموعی معیارها که %85 است باید فیصدی تعیین شده هر معیار را نیز ذیلاً کسب نماید
A93: شماره | B93: معیار اصلی | E93: فیصدی تعیین شده معیارهای اصلی | H93: نمره معیارهای اصلی | I93: فیصدی تعیین شده هر معیار برای مرحله سوم | K93: فیصدی حاصلۀ توسط پوهنتون | M93: وضعیت پوهنتون در مرحلۀ سوم
A94: =F9 -> 1 | B94: =H9 -> دیدگاه، مأموریت و پلان گذاری استراتیژیک | E94: =I9 -> 0.08 | H94: =J9 -> 96 | I94: 0.8 | K94: =(M9/J9)*1 -> 0 | M94: =IF(AND(K94>=0,K94<I94),"عدم کسب",IF(AND(K94>=I94),"+")) -> عدم کسب
A95: =F10 -> 2 | B95: =H10 -> سهم‌ پوهنتون در انکشاف جامعه و تطبیق پالیسی‌های نظام | E95: =I10 -> 0.08 | H95: =J10 -> 46 | I95: 0.8 | K95: =(M10/J10)*1 -> 0 | M95: =IF(AND(K95>=0,K95<I95),"عدم کسب",IF(AND(K95>=I95),"+")) -> عدم کسب
A96: =F11 -> 3 | B96: =H11 -> رهبری و اداره | E96: =I11 -> 0.07 | H96: =J11 -> 48 | I96: 0.8 | K96: =(M11/J11)*1 -> 0 | M96: =IF(AND(K96>=0,K96<I96),"عدم کسب",IF(AND(K96>=I96),"+")) -> عدم کسب
A97: =F12 -> 4 | B97: =H12 -> منابع مالی و مدیریت آن | E97: =I12 -> 0.08 | H97: =J12 -> 47 | I97: 0.7 | K97: =(M12/J12)*1 -> 0 | M97: =IF(AND(K97>=0,K97<I97),"عدم کسب",IF(AND(K97>=I97),"+")) -> عدم کسب
A98: =F13 -> 5 | B98: =H13 -> برنامه‌های علمی | E98: =I13 -> 0.14 | H98: =J13 -> 105 | I98: 0.8 | K98: =(M13/J13)*1 -> 0 | M98: =IF(AND(K98>=0,K98<I98),"عدم کسب",IF(AND(K98>=I98),"+")) -> عدم کسب
A99: =F14 -> 6 | B99: =H14 -> تحقیق | E99: =I14 -> 0.1 | H99: =J14 -> 96 | I99: 0.7 | K99: =(M14/J14)*1 -> 0 | M99: =IF(AND(K99>=0,K99<I99),"عدم کسب",IF(AND(K99>=I99),"+")) -> عدم کسب
A100: =F15 -> 7 | B100: =H15 -> استادان و کارمندان | E100: =I15 -> 0.09 | H100: =J15 -> 90 | I100: 0.8 | K100: =(M15/J15)*1 -> 0 | M100: =IF(AND(K100>=0,K100<I100),"عدم کسب",IF(AND(K100>=I100),"+")) -> عدم کسب
A101: =F16 -> 8 | B101: =H16 -> تجارب محصل | E101: =I16 -> 0.08 | H101: =J16 -> 91 | I101: 0.8 | K101: =(M16/J16)*1 -> 0 | M101: =IF(AND(K101>=0,K101<I101),"عدم کسب",IF(AND(K101>=I101),"+")) -> عدم کسب
A102: =F17 -> 9 | B102: =H17 -> بهبود و ارتقای کیفیت | E102: =I17 -> 0.04 | H102: =J17 -> 42 | I102: 0.9 | K102: =(M17/J17)*1 -> 0 | M102: =IF(AND(K102>=0,K102<I102),"عدم کسب",IF(AND(K102>=I102),"+")) -> عدم کسب
A103: =F18 -> 10 | B103: =H18 -> کتابخانه و منابع معلوماتی | E103: =I18 -> 0.09 | H103: =J18 -> 57 | I103: 0.8 | K103: =(M18/J18)*1 -> 0 | M103: =IF(AND(K103>=0,K103<I103),"عدم کسب",IF(AND(K103>=I103),"+")) -> عدم کسب
A104: =F19 -> 11 | B104: =H19 -> زیربنا، تسهیلات تدریسی و تکنالوژی معلوماتی | E104: =I19 -> 0.15 | H104: =J19 -> 156 | I104: 0.8 | K104: =(M19/J19)*1 -> 0 | M104: =IF(AND(K104>=0,K104<I104),"عدم کسب",IF(AND(K104>=I104),"+")) -> عدم کسب
A105: =F20 -> ضمیمه شماره (1) معیارهای فرعی پوهنځی طب: وضاحت این ضمیمه در بخش تعریفات ذکر شده است. | E105: =I20 -> 0.15 | H105: =J20 -> 242 | I105: 0.8 | K105: =(M20/J20)*1 -> 0 | M105: =IF(AND(K105>=0,K105<I105),"عدم کسب",IF(AND(K105>=I105),"+")) -> عدم کسب
A107: 6 | B107: بدیل کلمات خارجی در این چارچوب
A108: شماره | B108: کلمات بیرونی | C108: معادل آن به پښتو | H108: معادل آن به دری
...
