Workbook

Sheet پشتی خودی طبی
C3: د لوړو زده کړو وزارت لوگو | J3: د پوهنتون لوگو
A4: د لوړو زده کړو وزارت
A5: علمي معینیت
A6: د تضمین کیفیت او اعتبار ورکولو ریاست
A7: لوړو زده کړو بنسټونو ته د اعتبار ورکولو آمریت
A12: د پوهنتون نوم دې ولیکل شي
A13: د پوهنتون دقیق موقیعت د ولیکل شي
A18: د ځان ارزونې راپور
A19: د اعتباردهي......مرحله
C24: د ارزونې نېټه: | D24: 1400/11/11 | E24: تر | F24: 1400/11/12
D30: د تضمین کیفیت او اعتبار ورکولو بورډ د ۱۴۰۳/۰۹/۰۴ نېټې په (۳۰) غونډه کې دا چوکاټ تائید او د لوړو زده کړو وزارت د ۱۴۴۷/۰۱/۰۷ نېټې د (۴۰۶) ګڼه حکم له مخې منظور شوی دی
B35: فهرست
B36: ='گزارش خودی طبی '!B7 -> د ځان ارزونې نومرو د وروستي راپور تحلیل | F36: …………………………………………………………………………………………………………… | L36: 2
B37: ='گزارش خودی طبی '!B33 -> د پوهنتون سره د اړیکې نیولو اړوند معلومات | F37: ……………………………………………………………………………………………………………
B38: ='گزارش خودی طبی '!B41 -> د مسلکي بیا کتنې پر وخت له پوهنتون سره لومړنۍ اړیکه | F38: ……………………………………………………………………………………………………………
B39: ='گزارش خودی طبی '!B46 -> پیلیزه | F39: ……………………………………………………………………………………………………………
B40: ='گزارش خودی طبی '!B52 -> تعریفونه: | F40: ……………………………………………………………………………………………………………
B41: ='گزارش خودی طبی '!B61 -> د طبي څانګې لرونکو پوهنتونونو ته د ځان ارزونې او بازنګرې پر مهال د اعتبار ورکولو چوکاټ ته د نومرې ورکولو طریقه | F41: ……………………………………………………………………………………………………………
B42: ='گزارش خودی طبی '!B107 -> په دې چوکاټ کې د خارجي کلماتو بدیلونه | F42: ……………………………………………………………………………………………………………
B43: ='گزارش خودی طبی '!B134 -> د پوهنتون د سوابقو په اړه معلومات | F43: ……………………………………………………………………………………………………………
B44: ='گزارش خودی طبی '!B161 -> د پوهنتون لرلید او رسالت | F44: ……………………………………………………………………………………………………………
B45: ='گزارش خودی طبی '!B173 -> حقیقتونه او شمېر یې | F45: ……………………………………………………………………………………………………………
B46: ='گزارش خودی طبی '!B298 -> د کمېټو او اداري جوړښت | F46: ……………………………………………………………………………………………………………
B47: ='گزارش خودی طبی '!B306 -> د لوړاوي او تضمین کیفیت په اړه معلومات | F47: ……………………………………………………………………………………………………………
B48: ='گزارش خودی طبی '!B357 -> دقیق ملاتړي اسناد | F48: ……………………………………………………………………………………………………………
B49: ='گزارش خودی طبی '!H9 -> لرلید، رسالت او ستراتیژیکه پلان جوړونه | F49: ……………………………………………………………………………………………………………
B50: ='گزارش خودی طبی '!H10 -> د ټولنې په پرمختګ او د نظام د تګلارو په تطبیق کې د پوهنتون برخه اخیستل | F50: ……………………………………………………………………………………………………………
B51: ='گزارش خودی طبی '!H11 -> رهبري او اداره | F51: ……………………………………………………………………………………………………………
B52: ='گزارش خودی طبی '!H12 -> مالي سرچینې او د هغې مدیریت | F52: ……………………………………………………………………………………………………………
B53: ='گزارش خودی طبی '!H13 -> علمي برنامې | F53: ……………………………………………………………………………………………………………
B54: ='گزارش خودی طبی '!H14 -> څېړنه | F54: ……………………………………………………………………………………………………………
B55: ='گزارش خودی طبی '!H15 -> استادان او کارکوونکي | F55: ……………………………………………………………………………………………………………
B56: ='گزارش خودی طبی '!H16 -> د محصل تجربې | F56: ……………………………………………………………………………………………………………
B57: ='گزارش خودی طبی '!H17 -> د کیفیت ښه والی او لوړول | F57: ……………………………………………………………………………………………………………
B58: ='گزارش خودی طبی '!H18 -> کتابتون او معلوماتي سرچېنې | F58: ……………………………………………………………………………………………………………
B59: ='گزارش خودی طبی '!H19 -> زیربنا، تدریسي اسانتیاوې او معلوماتي تکنالوژي | F59: ……………………………………………………………………………………………………………
B60: ='گزارش خودی طبی '!F20 -> د طب پوهنځې د فرعې معیارونو (1) شمېره مل پاڼې: د دې مل پاڼو توضیحات د تعریفاتو په برخه کې ذکر شوي دي. | F60: ……………………………………………………………………………………………………………

Sheet گزارش خودی طبی 
D1: لوگوی وزارت | I1: لوگوی پوهنتون
A2: د لوړو زده کړو وزارت
A3: علمي معینیت
A4: د تضمین کیفیت او اعتبار ورکولو ریاست
A5: لوړو زده کړو بنسټونو ته د اعتبار ورکولو آمریت
A6: ='پشتی خودی طبی'!A12 -> د پوهنتون نوم دې ولیکل شي | G6: ='پشتی خودی طبی'!A13 -> د پوهنتون دقیق موقیعت د ولیکل شي | I6: ='پشتی خودی طبی'!C24 -> د ارزونې نېټه: | L6: ='پشتی خودی طبی'!D24 -> 1400/11/11 | M6: ='پشتی خودی طبی'!F24 -> 1400/11/12
A7: 1 | B7: د ځان ارزونې نومرو د وروستي راپور تحلیل
F8: شمېره | H8: اصلي معیار | I8: معیارونو سلنه | J8: معیارونو نومره | L8: پوهنتون لخوا ترلاسه شوې سلنه | M8: پوهنتون لخوا ترلاسه شوې نومره
B9: =IF(AND(L9>=50%,L9<=100%),"د لومړی مرحلې ترلاسه کول",IF(AND(L9>=0%,L9<50%),"د لومړی مرحلې نه ترلاسه کول")) -> د لومړی مرحلې نه ترلاسه کول | C9: =IF(AND(L9>=60%,L9<=100%),"د دویمه مرحلې ترلاسه کول",IF(AND(L9>=0%,L9<60%),"د دویمه مرحلې نه ترلاسه کول")) -> د دویمه مرحلې نه ترلاسه کول | D9: =IF(AND(L9>=80%,L9<=100%),"د درېیمې مرحلې ترلاسه کول",IF(AND(L9>=0%,L9<80%),"د درېیمې مرحلې نه ترلاسه کول")) -> د درېیمې مرحلې نه ترلاسه کول | F9: 1 | H9: لرلید، رسالت او ستراتیژیکه پلان جوړونه | I9: 0.08 | J9: =I428 -> 96 | L9: =(M9/J9)*1 -> 0 | M9: =M428 -> 0
B10: =IF(AND(L10>=50%,L10<=100%),"د لومړی مرحلې ترلاسه کول",IF(AND(L10>=0%,L10<50%),"د لومړی مرحلې نه ترلاسه کول")) -> د لومړی مرحلې نه ترلاسه کول | C10: =IF(AND(L10>=60%,L10<=100%),"د دویمه مرحلې ترلاسه کول",IF(AND(L10>=0%,L10<60%),"د دویمه مرحلې نه ترلاسه کول")) -> د دویمه مرحلې نه ترلاسه کول | D10: =IF(AND(L10>=80%,L10<=100%),"د درېیمې مرحلې ترلاسه کول",IF(AND(L10>=0%,L10<80%),"د درېیمې مرحلې نه ترلاسه کول")) -> د درېیمې مرحلې نه ترلاسه کول | F10: 2 | H10: د ټولنې په پرمختګ او د نظام د تګلارو په تطبیق کې د پوهنتون برخه اخیستل | I10: 0.08 | J10: =I547 -> 46 | L10: =(M10/J10)*1 -> 0 | M10: =M547 -> 0
B11: =IF(AND(L11>=50%,L11<=100%),"د لومړی مرحلې ترلاسه کول",IF(AND(L11>=0%,L11<50%),"د لومړی مرحلې نه ترلاسه کول")) -> د لومړی مرحلې نه ترلاسه کول | C11: =IF(AND(L11>=60%,L11<=100%),"د دویمه مرحلې ترلاسه کول",IF(AND(L11>=0%,L11<60%),"د دویمه مرحلې نه ترلاسه کول")) -> د دویمه مرحلې نه ترلاسه کول | D11: =IF(AND(L11>=80%,L11<=100%),"د درېیمې مرحلې ترلاسه کول",IF(AND(L11>=0%,L11<80%),"د درېیمې مرحلې نه ترلاسه کول")) -> د درېیمې مرحلې نه ترلاسه کول | F11: 3 | H11: رهبري او اداره | I11: 0.07 | J11: =I592 -> 48 | L11: =(M11/J11)*1 -> 0 | M11: =M592 -> 0
B12: =IF(AND(L12>=40%,L12<=100%),"د لومړی مرحلې ترلاسه کول",IF(AND(L12>=0%,L12<40%),"د لومړی مرحلې نه ترلاسه کول")) -> د لومړی مرحلې نه ترلاسه کول | C12: =IF(AND(L12>=50%,L12<=100%),"د دویمه مرحلې ترلاسه کول",IF(AND(L12>=0%,L12<50%),"د دویمه مرحلې نه ترلاسه کول")) -> د دویمه مرحلې نه ترلاسه کول | D12: =IF(AND(L12>=70%,L12<=100%),"د درېیمې مرحلې ترلاسه کول",IF(AND(L12>=0%,L12<70%),"د درېیمې مرحلې نه ترلاسه کول")) -> د درېیمې مرحلې نه ترلاسه کول | F12: 4 | H12: مالي سرچینې او د هغې مدیریت | I12: 0.08 | J12: =I661 -> 47 | L12: =(M12/J12)*1 -> 0 | M12: =M661 -> 0
B13: =IF(AND(L13>=40%,L13<=100%),"د لومړی مرحلې ترلاسه کول",IF(AND(L13>=0%,L13<40%),"د لومړی مرحلې نه ترلاسه کول")) -> د لومړی مرحلې نه ترلاسه کول | C13: =IF(AND(L13>=50%,L13<=100%),"د دویمه مرحلې ترلاسه کول",IF(AND(L13>=0%,L13<50%),"د دویمه مرحلې نه ترلاسه کول")) -> د دویمه مرحلې نه ترلاسه کول | D13: =IF(AND(L13>=80%,L13<=100%),"د درېیمې مرحلې ترلاسه کول",IF(AND(L13>=0%,L13<80%),"د درېیمې مرحلې نه ترلاسه کول")) -> د درېیمې مرحلې نه ترلاسه کول | F13: 5 | H13: علمي برنامې | I13: 0.14 | J13: =I715 -> 105 | L13: =(M13/J13)*1 -> 0 | M13: =M715 -> 0
B14: =IF(AND(L14>=30%,L14<=100%),"د لومړی مرحلې ترلاسه کول",IF(AND(L14>=0%,L14<30%),"د لومړی مرحلې نه ترلاسه کول")) -> د لومړی مرحلې نه ترلاسه کول | C14: =IF(AND(L14>=50%,L14<=100%),"د دویمه مرحلې ترلاسه کول",IF(AND(L14>=0%,L14<50%),"د دویمه مرحلې نه ترلاسه کول")) -> د دویمه مرحلې نه ترلاسه کول | D14: =IF(AND(L14>=70%,L14<=100%),"د درېیمې مرحلې ترلاسه کول",IF(AND(L14>=0%,L14<70%),"د درېیمې مرحلې نه ترلاسه کول")) -> د درېیمې مرحلې نه ترلاسه کول | F14: 6 | H14: څېړنه | I14: 0.1 | J14: =I824 -> 96 | L14: =(M14/J14)*1 -> 0 | M14: =M824 -> 0
B15: =IF(AND(L15>=50%,L15<=100%),"د لومړی مرحلې ترلاسه کول",IF(AND(L15>=0%,L15<50%),"د لومړی مرحلې نه ترلاسه کول")) -> د لومړی مرحلې نه ترلاسه کول | C15: =IF(AND(L15>=60%,L15<=100%),"د دویمه مرحلې ترلاسه کول",IF(AND(L15>=0%,L15<60%),"د دویمه مرحلې نه ترلاسه کول")) -> د دویمه مرحلې نه ترلاسه کول | D15: =IF(AND(L15>=80%,L15<=100%),"د درېیمې مرحلې ترلاسه کول",IF(AND(L15>=0%,L15<80%),"د درېیمې مرحلې نه ترلاسه کول")) -> د درېیمې مرحلې نه ترلاسه کول | F15: 7 | H15: استادان او کارکوونکي | I15: 0.09 | J15: =I905 -> 90 | L15: =(M15/J15)*1 -> 0 | M15: =M905 -> 0
B16: =IF(AND(L16>=40%,L16<=100%),"د لومړی مرحلې ترلاسه کول",IF(AND(L16>=0%,L16<40%),"د لومړی مرحلې نه ترلاسه کول")) -> د لومړی مرحلې نه ترلاسه کول | C16: =IF(AND(L16>=50%,L16<=100%),"د دویمه مرحلې ترلاسه کول",IF(AND(L16>=0%,L16<50%),"د دویمه مرحلې نه ترلاسه کول")) -> د دویمه مرحلې نه ترلاسه کول | D16: =IF(AND(L16>=80%,L16<=100%),"د درېیمې مرحلې ترلاسه کول",IF(AND(L16>=0%,L16<80%),"د درېیمې مرحلې نه ترلاسه کول")) -> د درېیمې مرحلې نه ترلاسه کول | F16: 8 | H16: د محصل تجربې | I16: 0.08 | J16: =I1020 -> 91 | L16: =(M16/J16)*1 -> 0 | M16: =M1020 -> 0
B17: =IF(AND(L17>=50%,L17<=100%),"د لومړی مرحلې ترلاسه کول",IF(AND(L17>=0%,L17<50%),"د لومړی مرحلې نه ترلاسه کول")) -> د لومړی مرحلې نه ترلاسه کول | C17: =IF(AND(L17>=60%,L17<=100%),"د دویمه مرحلې ترلاسه کول",IF(AND(L17>=0%,L17<60%),"د دویمه مرحلې نه ترلاسه کول")) -> د دویمه مرحلې نه ترلاسه کول | D17: =IF(AND(L17>=90%,L17<=100%),"د درېیمې مرحلې ترلاسه کول",IF(AND(L17>=0%,L17<90%),"د درېیمې مرحلې نه ترلاسه کول")) -> د درېیمې مرحلې نه ترلاسه کول | F17: 9 | H17: د کیفیت ښه والی او لوړول | I17: 0.04 | J17: =I1113 -> 42 | L17: =(M17/J17)*1 -> 0 | M17: =M1113 -> 0
B18: =IF(AND(L18>=40%,L18<=100%),"د لومړی مرحلې ترلاسه کول",IF(AND(L18>=0%,L18<40%),"د لومړی مرحلې نه ترلاسه کول")) -> د لومړی مرحلې نه ترلاسه کول | C18: =IF(AND(L18>=50%,L18<=100%),"د دویمه مرحلې ترلاسه کول",IF(AND(L18>=0%,L18<50%),"د دویمه مرحلې نه ترلاسه کول")) -> د دویمه مرحلې نه ترلاسه کول | D18: =IF(AND(L18>=80%,L18<=100%),"د درېیمې مرحلې ترلاسه کول",IF(AND(L18>=0%,L18<80%),"د درېیمې مرحلې نه ترلاسه کول")) -> د درېیمې مرحلې نه ترلاسه کول | F18: 10 | H18: کتابتون او معلوماتي سرچېنې | I18: 0.09 | J18: =I1162 -> 57 | L18: =(M18/J18)*1 -> 0 | M18: =M1162 -> 0
B19: =IF(AND(L19>=35%,L19<=100%),"د لومړی مرحلې ترلاسه کول",IF(AND(L19>=0%,L19<35%),"د لومړی مرحلې نه ترلاسه کول")) -> د لومړی مرحلې نه ترلاسه کول | C19: =IF(AND(L19>=50%,L19<=100%),"د دویمه مرحلې ترلاسه کول",IF(AND(L19>=0%,L19<50%),"د دویمه مرحلې نه ترلاسه کول")) -> د دویمه مرحلې نه ترلاسه کول | D19: =IF(AND(L19>=80%,L19<=100%),"د درېیمې مرحلې ترلاسه کول",IF(AND(L19>=0%,L19<80%),"د درېیمې مرحلې نه ترلاسه کول")) -> د درېیمې مرحلې نه ترلاسه کول | F19: 11 | H19: زیربنا، تدریسي اسانتیاوې او معلوماتي تکنالوژي | I19: 0.15 | J19: =I1215 -> 156 | L19: =(M19/J19)*1 -> 0 | M19: =M1215 -> 0
B20: =IF(AND(L20>=40%,L20<=100%),"د لومړی مرحلې ترلاسه کول",IF(AND(L20>=0%,L20<40%),"د لومړی مرحلې نه ترلاسه کول")) -> د لومړی مرحلې نه ترلاسه کول | C20: =IF(AND(L20>=60%,L20<=100%),"د دویمه مرحلې ترلاسه کول",IF(AND(L20>=0%,L20<60%),"د دویمه مرحلې نه ترلاسه کول")) -> د دویمه مرحلې نه ترلاسه کول | D20: =IF(AND(L20>=80%,L20<=100%),"د درېیمې مرحلې ترلاسه کول",IF(AND(L20>=0%,L20<80%),"د درېیمې مرحلې نه ترلاسه کول")) -> د درېیمې مرحلې نه ترلاسه کول | F20: د طب پوهنځې د فرعې معیارونو (1) شمېره مل پاڼې: د دې مل پاڼو توضیحات د تعریفاتو په برخه کې ذکر شوي دي. | I20: 0.15 | J20: =I1294 -> 242 | L20: =(M20/J20)*1 -> 0 | M20: =M1294 -> 0
F21: د اصلي معیارونو ټولې نومرې | I21: =SUM(J9:K20) -> 1116
F22: د اصلي معیارونو ټوله سلنه | I22: =I21*1/I21 -> 1
F23: د پوهنتون لخوا ټولې ترلاسه شوې نومرې | I23: =SUM(M9:M20) -> 0
F24: د پوهنتون لخوا ترلاسه شوې ټوله سلنه | I24: =I23*1/I21 -> 0
F25: د پوهنتون وضعیت | I25: =IF(AND(COUNTIF(B9:B20,"د لومړی مرحلې ترلاسه کول")=12,I24>=65%,COUNTIF(C9:C20,"د دویمه مرحلې ترلاسه کول")=12,I24>=75%,COUNTIF(D9:E20,"د درېیمې مرحلې ترلاسه کول")=12,I24>=85%), "د درېیمې مرحلې ترلاسه کول", IF(AND(COUNTIF(B9:B20,"د لومړی مرحلې ترلاسه کول")=12,I24>=65%,COUNTIF(C9:C20,"د دویمه مرحلې ترلاسه کول")=12,I24>=75%), "د دویمه مرحلې ترلاسه کول", IF(AND(COUNTIF(D9:E20,"د درېیمې مرحلې ترلاسه کول")=12,I24>=85%), "د درېیمې مرحلې ترلاسه کول", IF(AND(COUNTIF(B9:B20,"د لومړی مرحلې ترلاسه کول")=12,I24>=65%), "د لومړی مرحلې ترلاسه کول", "اعتبار نه ترلاسه کول")))) -> اعتبار نه ترلاسه کول
B26: د پوهنتون د کیفیت لوړاوي د اصلي کمېټې په ( ) ګڼه ( ) نېټې جلسه کې تائید شوی
B27: د پوهنتون د علمي شورا په ( ) ګڼه ( ) نېټې جلسه کې تائید شوی
B28: په درنښت | H28: په درنښت
B29: د علمي چارو مرستیال نوم د ولیکل شي | H29: د پوهنتون د رئیس نوم د ولیکل شي
B30: د پوهنتون علمي مرستیال .... | H30: د پوهنتون رئیس......
B31: د پوهنتون د علمي مرستیال ټاپه/مُهر | H31: د پوهنتون ټاپه/مُهر
A33: 1 | B33: د پوهنتون سره د اړیکې نیولو اړوند معلومات
A34: ګڼه | B34: شرح | E34: نوم | I34: د اړیکې شمېره
A35: 1 | B35: د پوهنتون رئیس
A36: 2 | B36: د علمي چارو مرستیال یا د هغه معادل
A37: 3 | B37: د کیفت لوړاوي آمر
A38: 4 | B38: د پوهنتون پته
A39: 5 | B39: ولایت
A41: 2 | B41: د مسلکي بیا کتنې پر وخت له پوهنتون سره لومړنۍ اړیکه
A42: دنده
A43: د اړیکې شمېره
A44: برښنالیک
A46: 3 | B46: پیلیزه
A47: د ( ) ځان ارزونې راپور بشپړولو په اړه د پوهنتون د رئیس پیغام
A48: په درنښت
A49: د پوهنتون د رئیس نوم ....
A50: د پوهنتون رئیس ....
A52: 4 | B52: تعریفونه:
A53: فوری: هغه وړاندیزونه چې باید په عاجله توګه تطبیق شي.
A54: متوسط:هغه وړاندیزونه چې باید په راتلونکو ۶ میاشتو کې تطبیق شي.
A55: غیرفوری:هغه وړاندیزونه چې باید په راتلونکو ۱۲میاشتو کې تطبیق شي.
A56: د فرعي کمېټو غړي: د هرې څانګې د نماینده غړیتوب د اړونده پوهنځي په فرعي کمېټو کې لازمي دی.
A57: امارتي پوهنتونونو ته د(۷۴) شمېرې د نومرې ورکول: یاده شوې نومره امارتي پوهنتونونو ته پرته د هغوی د غوښتنې ورکول کېږي.
A58: خصوصي پوهنتونونو ته د(۲۶۱) شمېرې د نومرې ورکول: یاده شوې نومره خصوصي پوهنتونونو ته پرته د هغوی د غوښتنې ورکول کېږي.
A59: د چارچوب تطبیق په هغو پوهنتونونو کې چې طبي څانګې لري: د یولسو معیارونو سربیره (۱) شمېرې مل پانې چې په دغه چارچوب کې شامل دي، په هغو پوهنتونو کې چې طبی څانګې لري تطبیقیږي. دا معیارونه په جلا توګه وضع شوي او د فیصدي سطون یې د معیارونو د فیصدۍ نهايي تحلیل په برخه کې د اصلي معیارونو په مجموعي فیصدي کې نه شاملېږي. خو پوهنتون باید ټاکل شوې فیصدي (لومړی پړاو %40، دوهم پړاو %60 او درېیم پړاو %80) چې د اعتبار ورکولو چوکاټ د نمرې ورکولو په برخه کې د طبي څانګو لرونکو پوهنتونونو لپاره په ضمیمه کې ذکر شوي دي، د ځان‌ ارزونې او بیاکتنې په پروسه کې د اعتبار ورکولو د پړاوونو د ترلاسه کولو لپاره ترلاسه کړي.
A61: 5 | B61: د طبي څانګې لرونکو پوهنتونونو ته د ځان ارزونې او بازنګرې پر مهال د اعتبار ورکولو چوکاټ ته د نومرې ورکولو طریقه
A62: لومړۍمرحله: پوهنتون د ټولو معیارونو لپاره د ټاکل شوې مجموعي فیصدي تر څنګ چې %65 ده، باید د هر معیار لپاره ټاکل شوې فیصدي هم تر لاسه کړي.
A63: شمېره | B63: اصلي معیار | E63: اصلي معیارونو ته ټاکل شوې سلنه | H63: د اصلي معیارونو نومره | I63: د لومړۍ مرحلې لپاره د هر معیار ټاکل شوې سلنه | K63: پوهنتون لخوا ترلاسه شوې سلنه | M63: د لومړۍ مرحلې د پوهنتون وضعیت
A64: =F9 -> 1 | B64: =H9 -> لرلید، رسالت او ستراتیژیکه پلان جوړونه | E64: =I9 -> 0.08 | H64: =J9 -> 96 | I64: 0.5 | K64: =(M9/J9)*1 -> 0 | M64: =IF(AND(K64>=0,K64<I64),"عدم کسب",IF(AND(K64>=I64),"+")) -> عدم کسب
A65: =F10 -> 2 | B65: =H10 -> د ټولنې په پرمختګ او د نظام د تګلارو په تطبیق کې د پوهنتون برخه اخیستل | E65: =I10 -> 0.08 | H65: =J10 -> 46 | I65: 0.5 | K65: =(M10/J10)*1 -> 0 | M65: =IF(AND(K65>=0,K65<I65),"عدم کسب",IF(AND(K65>=I65),"+")) -> عدم کسب
A66: =F11 -> 3 | B66: =H11 -> رهبري او اداره | E66: =I11 -> 0.07 | H66: =J11 -> 48 | I66: 0.5 | K66: =(M11/J11)*1 -> 0 | M66: =IF(AND(K66>=0,K66<I66),"عدم کسب",IF(AND(K66>=I66),"+")) -> عدم کسب
A67: =F12 -> 4 | B67: =H12 -> مالي سرچینې او د هغې مدیریت | E67: =I12 -> 0.08 | H67: =J12 -> 47 | I67: 0.4 | K67: =(M12/J12)*1 -> 0 | M67: =IF(AND(K67>=0,K67<I67),"عدم کسب",IF(AND(K67>=I67),"+")) -> عدم کسب
A68: =F13 -> 5 | B68: =H13 -> علمي برنامې | E68: =I13 -> 0.14 | H68: =J13 -> 105 | I68: 0.4 | K68: =(M13/J13)*1 -> 0 | M68: =IF(AND(K68>=0,K68<I68),"عدم کسب",IF(AND(K68>=I68),"+")) -> عدم کسب
A69: =F14 -> 6 | B69: =H14 -> څېړنه | E69: =I14 -> 0.1 | H69: =J14 -> 96 | I69: 0.3 | K69: =(M14/J14)*1 -> 0 | M69: =IF(AND(K69>=0,K69<I69),"عدم کسب",IF(AND(K69>=I69),"+")) -> عدم کسب
A70: =F15 -> 7 | B70: =H15 -> استادان او کارکوونکي | E70: =I15 -> 0.09 | H70: =J15 -> 90 | I70: 0.5 | K70: =(M15/J15)*1 -> 0 | M70: =IF(AND(K70>=0,K70<I70),"عدم کسب",IF(AND(K70>=I70),"+")) -> عدم کسب
A71: =F16 -> 8 | B71: =H16 -> د محصل تجربې | E71: =I16 -> 0.08 | H71: =J16 -> 91 | I71: 0.4 | K71: =(M16/J16)*1 -> 0 | M71: =IF(AND(K71>=0,K71<I71),"عدم کسب",IF(AND(K71>=I71),"+")) -> عدم کسب
A72: =F17 -> 9 | B72: =H17 -> د کیفیت ښه والی او لوړول | E72: =I17 -> 0.04 | H72: =J17 -> 42 | I72: 0.5 | K72: =(M17/J17)*1 -> 0 | M72: =IF(AND(K72>=0,K72<I72),"عدم کسب",IF(AND(K72>=I72),"+")) -> عدم کسب
A73: =F18 -> 10 | B73: =H18 -> کتابتون او معلوماتي سرچېنې | E73: =I18 -> 0.09 | H73: =J18 -> 57 | I73: 0.4 | K73: =(M18/J18)*1 -> 0 | M73: =IF(AND(K73>=0,K73<I73),"عدم کسب",IF(AND(K73>=I73),"+")) -> عدم کسب
A74: =F19 -> 11 | B74: =H19 -> زیربنا، تدریسي اسانتیاوې او معلوماتي تکنالوژي | E74: =I19 -> 0.15 | H74: =J19 -> 156 | I74: 0.35 | K74: =(M19/J19)*1 -> 0 | M74: =IF(AND(K74>=0,K74<I74),"عدم کسب",IF(AND(K74>=I74),"+")) -> عدم کسب
A75: =F20 -> د طب پوهنځې د فرعې معیارونو (1) شمېره مل پاڼې: د دې مل پاڼو توضیحات د تعریفاتو په برخه کې ذکر شوي دي. | E75: =I20 -> 0.15 | H75: =J20 -> 242 | I75: 0.4 | K75: =(M20/J20)*1 -> 0 | M75: =IF(AND(K75>=0,K75<I75),"عدم کسب",IF(AND(K75>=I75),"+")) -> عدم کسب
A77: دویمه مرحله: پوهنتون د ټولو معیارونو لپاره د ټاکل شوې مجموعي فیصدي تر څنګ چې %75 ده، باید د هر معیار لپاره ټاکل شوې فیصدي هم تر لاسه کړي.
A78: شمېره | B78: اصلي معیار | E78: اصلي معیارونو ته ټاکل شوې سلنه | H78: د اصلي معیارونو نومره | I78: د دویمې مرحلې لپاره د هر معیار ټاکل شوې سلنه | K78: پوهنتون لخوا ترلاسه شوې سلنه | M78: د دوهمې مرحلې د پوهنتون وضعیت
A79: =F9 -> 1 | B79: =H9 -> لرلید، رسالت او ستراتیژیکه پلان جوړونه | E79: =I9 -> 0.08 | H79: =J9 -> 96 | I79: 0.6 | K79: =(M9/J9)*1 -> 0 | M79: =IF(AND(K79>=0,K79<I79),"عدم کسب",IF(AND(K79>=I79),"+")) -> عدم کسب
A80: =F10 -> 2 | B80: =H10 -> د ټولنې په پرمختګ او د نظام د تګلارو په تطبیق کې د پوهنتون برخه اخیستل | E80: =I10 -> 0.08 | H80: =J10 -> 46 | I80: 0.6 | K80: =(M10/J10)*1 -> 0 | M80: =IF(AND(K80>=0,K80<I80),"عدم کسب",IF(AND(K80>=I80),"+")) -> عدم کسب
A81: =F11 -> 3 | B81: =H11 -> رهبري او اداره | E81: =I11 -> 0.07 | H81: =J11 -> 48 | I81: 0.6 | K81: =(M11/J11)*1 -> 0 | M81: =IF(AND(K81>=0,K81<I81),"عدم کسب",IF(AND(K81>=I81),"+")) -> عدم کسب
A82: =F12 -> 4 | B82: =H12 -> مالي سرچینې او د هغې مدیریت | E82: =I12 -> 0.08 | H82: =J12 -> 47 | I82: 0.5 | K82: =(M12/J12)*1 -> 0 | M82: =IF(AND(K82>=0,K82<I82),"عدم کسب",IF(AND(K82>=I82),"+")) -> عدم کسب
A83: =F13 -> 5 | B83: =H13 -> علمي برنامې | E83: =I13 -> 0.14 | H83: =J13 -> 105 | I83: 0.5 | K83: =(M13/J13)*1 -> 0 | M83: =IF(AND(K83>=0,K83<I83),"عدم کسب",IF(AND(K83>=I83),"+")) -> عدم کسب
A84: =F14 -> 6 | B84: =H14 -> څېړنه | E84: =I14 -> 0.1 | H84: =J14 -> 96 | I84: 0.5 | K84: =(M14/J14)*1 -> 0 | M84: =IF(AND(K84>=0,K84<I84),"عدم کسب",IF(AND(K84>=I84),"+")) -> عدم کسب
A85: =F15 -> 7 | B85: =H15 -> استادان او کارکوونکي | E85: =I15 -> 0.09 | H85: =J15 -> 90 | I85: 0.6 | K85: =(M15/J15)*1 -> 0 | M85: =IF(AND(K85>=0,K85<I85),"عدم کسب",IF(AND(K85>=I85),"+")) -> عدم کسب
A86: =F16 -> 8 | B86: =H16 -> د محصل تجربې | E86: =I16 -> 0.08 | H86: =J16 -> 91 | I86: 0.5 | K86: =(M16/J16)*1 -> 0 | M86: =IF(AND(K86>=0,K86<I86),"عدم کسب",IF(AND(K86>=I86),"+")) -> عدم کسب
A87: =F17 -> 9 | B87: =H17 -> د کیفیت ښه والی او لوړول | E87: =I17 -> 0.04 | H87: =J17 -> 42 | I87: 0.6 | K87: =(M17/J17)*1 -> 0 | M87: =IF(AND(K87>=0,K87<I87),"عدم کسب",IF(AND(K87>=I87),"+")) -> عدم کسب
A88: =F18 -> 10 | B88: =H18 -> کتابتون او معلوماتي سرچېنې | E88: =I18 -> 0.09 | H88: =J18 -> 57 | I88: 0.5 | K88: =(M18/J18)*1 -> 0 | M88: =IF(AND(K88>=0,K88<I88),"عدم کسب",IF(AND(K88>=I88),"+")) -> عدم کسب
A89: =F19 -> 11 | B89: =H19 -> زیربنا، تدریسي اسانتیاوې او معلوماتي تکنالوژي | E89: =I19 -> 0.15 | H89: =J19 -> 156 | I89: 0.5 | K89: =(M19/J19)*1 -> 0 | M89: =IF(AND(K89>=0,K89<I89),"عدم کسب",IF(AND(K89>=I89),"+")) -> عدم کسب
A90: =F20 -> د طب پوهنځې د فرعې معیارونو (1) شمېره مل پاڼې: د دې مل پاڼو توضیحات د تعریفاتو په برخه کې ذکر شوي دي. | E90: =I20 -> 0.15 | H90: =J20 -> 242 | I90: 0.6 | K90: =(M20/J20)*1 -> 0 | M90: =IF(AND(K90>=0,K90<I90),"عدم کسب",IF(AND(K90>=I90),"+")) -> عدم کسب
A92: دریمه مرحله: پوهنتون د ټولو معیارونو لپاره د ټاکل شوې مجموعي فیصدي تر څنګ چې %85 ده، باید د هر معیار لپاره ټاکل شوې فیصدي هم تر لاسه کړي.
A93: شمېره | B93: اصلي معیار | E93: اصلي معیارونو ته ټاکل شوې سلنه | H93: د اصلي معیارونو نومره | I93: د درېیمې مرحلې لپاره د هر معیار ټاکل شوې سلنه | K93: پوهنتون لخوا ترلاسه شوې سلنه | M93: د دریمه مرحلې د پوهنتون وضعیت
A94: =F9 -> 1 | B94: =H9 -> لرلید، رسالت او ستراتیژیکه پلان جوړونه | E94: =I9 -> 0.08 | H94: =J9 -> 96 | I94: 0.8 | K94: =(M9/J9)*1 -> 0 | M94: =IF(AND(K94>=0,K94<I94),"عدم کسب",IF(AND(K94>=I94),"+")) -> عدم کسب
A95: =F10 -> 2 | B95: =H10 -> د ټولنې په پرمختګ او د نظام د تګلارو په تطبیق کې د پوهنتون برخه اخیستل | E95: =I10 -> 0.08 | H95: =J10 -> 46 | I95: 0.8 | K95: =(M10/J10)*1 -> 0 | M95: =IF(AND(K95>=0,K95<I95),"عدم کسب",IF(AND(K95>=I95),"+")) -> عدم کسب
A96: =F11 -> 3 | B96: =H11 -> رهبري او اداره | E96: =I11 -> 0.07 | H96: =J11 -> 48 | I96: 0.8 | K96: =(M11/J11)*1 -> 0 | M96: =IF(AND(K96>=0,K96<I96),"عدم کسب",IF(AND(K96>=I96),"+")) -> عدم کسب
A97: =F12 -> 4 | B97: =H12 -> مالي سرچینې او د هغې مدیریت | E97: =I12 -> 0.08 | H97: =J12 -> 47 | I97: 0.7 | K97: =(M12/J12)*1 -> 0 | M97: =IF(AND(K97>=0,K97<I97),"عدم کسب",IF(AND(K97>=I97),"+")) -> عدم کسب
A98: =F13 -> 5 | B98: =H13 -> علمي برنامې | E98: =I13 -> 0.14 | H98: =J13 -> 105 | I98: 0.8 | K98: =(M13/J13)*1 -> 0 | M98: =IF(AND(K98>=0,K98<I98),"عدم کسب",IF(AND(K98>=I98),"+")) -> عدم کسب
A99: =F14 -> 6 | B99: =H14 -> څېړنه | E99: =I14 -> 0.1 | H99: =J14 -> 96 | I99: 0.7 | K99: =(M14/J14)*1 -> 0 | M99: =IF(AND(K99>=0,K99<I99),"عدم کسب",IF(AND(K99>=I99),"+")) -> عدم کسب
A100: =F15 -> 7 | B100: =H15 -> استادان او کارکوونکي | E100: =I15 -> 0.09 | H100: =J15 -> 90 | I100: 0.8 | K100: =(M15/J15)*1 -> 0 | M100: =IF(AND(K100>=0,K100<I100),"عدم کسب",IF(AND(K100>=I100),"+")) -> عدم کسب
A101: =F16 -> 8 | B101: =H16 -> د محصل تجربې | E101: =I16 -> 0.08 | H101: =J16 -> 91 | I101: 0.8 | K101: =(M16/J16)*1 -> 0 | M101: =IF(AND(K101>=0,K101<I101),"عدم کسب",IF(AND(K101>=I101),"+")) -> عدم کسب
A102: =F17 -> 9 | B102: =H17 -> د کیفیت ښه والی او لوړول | E102: =I17 -> 0.04 | H102: =J17 -> 42 | I102: 0.9 | K102: =(M17/J17)*1 -> 0 | M102: =IF(AND(K102>=0,K102<I102),"عدم کسب",IF(AND(K102>=I102),"+")) -> عدم کسب
A103: =F18 -> 10 | B103: =H18 -> کتابتون او معلوماتي سرچېنې | E103: =I18 -> 0.09 | H103: =J18 -> 57 | I103: 0.8 | K103: =(M18/J18)*1 -> 0 | M103: =IF(AND(K103>=0,K103<I103),"عدم کسب",IF(AND(K103>=I103),"+")) -> عدم کسب
A104: =F19 -> 11 | B104: =H19 -> زیربنا، تدریسي اسانتیاوې او معلوماتي تکنالوژي | E104: =I19 -> 0.15 | H104: =J19 -> 156 | I104: 0.8 | K104: =(M19/J19)*1 -> 0 | M104: =IF(AND(K104>=0,K104<I104),"عدم کسب",IF(AND(K104>=I104),"+")) -> عدم کسب
A105: =F20 -> د طب پوهنځې د فرعې معیارونو (1) شمېره مل پاڼې: د دې مل پاڼو توضیحات د تعریفاتو په برخه کې ذکر شوي دي. | E105: =I20 -> 0.15 | H105: =J20 -> 242 | I105: 0.8 | K105: =(M20/J20)*1 -> 0 | M105: =IF(AND(K105>=0,K105<I105),"عدم کسب",IF(AND(K105>=I105),"+")) -> عدم کسب
A107: 6 | B107: په دې چوکاټ کې د خارجي کلماتو بدیلونه
A108: شماره | B108: بهرني کلمې | C108: په پښتو کې د هغې معادل | G108: معادل آن به دری
...
