Workbook

Sheet پشتی خودی طبی
C3: د لوړو زده کړو وزارت لوگو | J3: د پوهنتون لوگو
A4: د لوړو زده کړو وزارت
A5: علمي معینیت
A6: د تضمین کیفیت او اعتبار ورکولو ریاست
A7: لوړو زده کړو بنسټونو ته د اعتبار ورکولو آمریت
A12: د پوهنتون نوم دې ولیکل شي
A13: د پوهنتون دقیق موقیعت د ولیکل شي
A18: د ځان ارزونې راپور
A19: د اعتباردهي......مرحله
C24: د ارزونې نېټه: | D24: 1400/11/11 | E24: تر | F24: 1400/11/12
D30: د تضمین کیفیت او اعتبار ورکولو بورډ د ۱۴۰۳/۰۹/۰۴ نېټې په (۳۰) غونډه کې دا چوکاټ تائید او د لوړو زده کړو وزارت د ۱۴۴۷/۰۱/۰۷ نېټې د (۴۰۶) ګڼه حکم له مخې منظور شوی دی
B35: فهرست
B36: ='گزارش خودی طبی '!B7 -> د ځان ارزونې نومرو د وروستي راپور تحلیل | F36: …………………………………………………………………………………………………………… | L36: 2
B37: ='گزارش خودی طبی '!B33 -> د پوهنتون سره د اړیکې نیولو اړوند معلومات | F37: ……………………………………………………………………………………………………………
B38: ='گزارش خودی طبی '!B41 -> د مسلکي بیا کتنې پر وخت له پوهنتون سره لومړنۍ اړیکه | F38: ……………………………………………………………………………………………………………
B39: ='گزارش خودی طبی '!B46 -> پیلیزه | F39: ……………………………………………………………………………………………………………
B40: ='گزارش خودی طبی '!B52 -> تعریفونه: | F40: ……………………………………………………………………………………………………………
B41: ='گزارش خودی طبی '!B61 -> د طبي څانګې لرونکو پوهنتونونو ته د ځان ارزونې او بازنګرې پر مهال د اعتبار ورکولو چوکاټ ته د نومرې ورکولو طریقه | F41: ……………………………………………………………………………………………………………
B42: ='گزارش خودی طبی '!B107 -> په دې چوکاټ کې د خارجي کلماتو بدیلونه | F42: ……………………………………………………………………………………………………………
B43: ='گزارش خودی طبی '!B134 -> د پوهنتون د سوابقو په اړه معلومات | F43: ……………………………………………………………………………………………………………
B44: ='گزارش خودی طبی '!B161 -> د پوهنتون لرلید او رسالت | F44: ……………………………………………………………………………………………………………
B45: ='گزارش خودی طبی '!B173 -> حقیقتونه او شمېر یې | F45: ……………………………………………………………………………………………………………
B46: ='گزارش خودی طبی '!B298 -> د کمېټو او اداري جوړښت | F46: ……………………………………………………………………………………………………………
B47: ='گزارش خودی طبی '!B306 -> د لوړاوي او تضمین کیفیت په اړه معلومات | F47: ……………………………………………………………………………………………………………
B48: ='گزارش خودی طبی '!B357 -> دقیق ملاتړي اسناد | F48: ……………………………………………………………………………………………………………
B49: ='گزارش خودی طبی '!H9 -> لرلید، رسالت او ستراتیژیکه پلان جوړونه | F49: ……………………………………………………………………………………………………………
B50: ='گزارش خودی طبی '!H10 -> د ټولنې په پرمختګ او د نظام د تګلارو په تطبیق کې د پوهنتون برخه اخیستل | F50: ……………………………………………………………………………………………………………
B51: ='گزارش خودی طبی '!H11 -> رهبري او اداره | F51: ……………………………………………………………………………………………………………
B52: ='گزارش خودی طبی '!H12 -> مالي سرچینې او د هغې مدیریت | F52: ……………………………………………………………………………………………………………
B53: ='گزارش خودی طبی '!H13 -> علمي برنامې | F53: ……………………………………………………………………………………………………………
B54: ='گزارش خودی طبی '!H14 -> څېړنه | F54: ……………………………………………………………………………………………………………
B55: ='گزارش خودی طبی '!H15 -> استادان او کارکوونکي | F55: ……………………………………………………………………………………………………………
B56: ='گزارش خودی طبی '!H16 -> د محصل تجربې | F56: ……………………………………………………………………………………………………………
B57: ='گزارش خودی طبی '!H17 -> د کیفیت ښه والی او لوړول | F57: ……………………………………………………………………………………………………………
B58: ='گزارش خودی طبی '!H18 -> کتابتون او معلوماتي سرچېنې | F58: ……………………………………………………………………………………………………………
B59: ='گزارش خودی طبی '!H19 -> زیربنا، تدریسي اسانتیاوې او معلوماتي تکنالوژي | F59: ……………………………………………………………………………………………………………
B60: ='گزارش خودی طبی '!F20 -> د طب پوهنځې د فرعې معیارونو (1) شمېره مل پاڼې: د دې مل پاڼو توضیحات د تعریفاتو په برخه کې ذکر شوي دي. | F60: ……………………………………………………………………………………………………………

Sheet گزارش خودی طبی 
D1: لوگوی وزارت | I1: لوگوی پوهنتون
A2: د لوړو زده کړو وزارت
A3: علمي معینیت
A4: د تضمین کیفیت او اعتبار ورکولو ریاست
A5: لوړو زده کړو بنسټونو ته د اعتبار ورکولو آمریت
A6: ='پشتی خودی طبی'!A12 -> د پوهنتون نوم دې ولیکل شي | G6: ='پشتی خودی طبی'!A13 -> د پوهنتون دقیق موقیعت د ولیکل شي | I6: ='پشتی خودی طبی'!C24 -> د ارزونې نېټه: | L6: ='پشتی خودی طبی'!D24 -> 1400/11/11 | M6: ='پشتی خودی طبی'!F24 -> 1400/11/12
A7: 1 | B7: د ځان ارزونې نومرو د وروستي راپور تحلیل
F8: شمېره | H8: اصلي معیار | I8: معیارونو سلنه | J8: معیارونو نومره | L8: پوهنتون لخوا ترلاسه شوې سلنه | M8: پوهنتون لخوا ترلاسه شوې نومره
B9: =IF(AND(L9>=50%,L9<=100%),"د لومړی مرحلې ترلاسه کول",IF(AND(L9>=0%,L9<50%),"د لومړی مرحلې نه ترلاسه کول")) -> د لومړی مرحلې نه ترلاسه کول | C9: =IF(AND(L9>=60%,L9<=100%),"د دویمه مرحلې ترلاسه کول",IF(AND(L9>=0%,L9<60%),"د دویمه مرحلې نه ترلاسه کول")) -> د دویمه مرحلې نه ترلاسه کول | D9: =IF(AND(L9>=80%,L9<=100%),"د درېیمې مرحلې ترلاسه کول",IF(AND(L9>=0%,L9<80%),"د درېیمې مرحلې نه ترلاسه کول")) -> د درېیمې مرحلې نه ترلاسه کول | F9: 1 | H9: لرلید، رسالت او ستراتیژیکه پلان جوړونه | I9: 0.08 | J9: =I428 -> 96 | L9: =(M9/J9)*1 -> 0 | M9: =M428 -> 0
B10: =IF(AND(L10>=50%,L10<=100%),"د لومړی مرحلې ترلاسه کول",IF(AND(L10>=0%,L10<50%),"د لومړی مرحلې نه ترلاسه کول")) -> د لومړی مرحلې نه ترلاسه کول | C10: =IF(AND(L10>=60%,L10<=100%),"د دویمه مرحلې ترلاسه کول",IF(AND(L10>=0%,L10<60%),"د دویمه مرحلې نه ترلاسه کول")) -> د دویمه مرحلې نه ترلاسه کول | D10: =IF(AND(L10>=80%,L10<=100%),"د درېیمې مرحلې ترلاسه کول",IF(AND(L10>=0%,L10<80%),"د درېیمې مرحلې نه ترلاسه کول")) -> د درېیمې مرحلې نه ترلاسه کول | F10: 2 | H10: د ټولنې په پرمختګ او د نظام د تګلارو په تطبیق کې د پوهنتون برخه اخیستل | I10: 0.08 | J10: =I547 -> 46 | L10: =(M10/J10)*1 -> 0 | M10: =M547 -> 0
B11: =IF(AND(L11>=50%,L11<=100%),"د لومړی مرحلې ترلاسه کول",IF(AND(L11>=0%,L11<50%),"د لومړی مرحلې نه ترلاسه کول")) -> د لومړی مرحلې نه ترلاسه کول | C11: =IF(AND(L11>=60%,L11<=100%),"د دویمه مرحلې ترلاسه کول",IF(AND(L11>=0%,L11<60%),"د دویمه مرحلې نه ترلاسه کول")) -> د دویمه مرحلې نه ترلاسه کول | D11: =IF(AND(L11>=80%,L11<=100%),"د درېیمې مرحلې ترلاسه کول",IF(AND(L11>=0%,L11<80%),"د درېیمې مرحلې نه ترلاسه کول")) -> د درېیمې مرحلې نه ترلاسه کول | F11: 3 | H11: رهبري او اداره | I11: 0.07 | J11: =I592 -> 48 | L11: =(M11/J11)*1 -> 0 | M11: =M592 -> 0
B12: =IF(AND(L12>=40%,L12<=100%),"د لومړی مرحلې ترلاسه کول",IF(AND(L12>=0%,L12<40%),"د لومړی مرحلې نه ترلاسه کول")) -> د لومړی مرحلې نه ترلاسه کول | C12: =IF(AND(L12>=50%,L12<=100%),"د دویمه مرحلې ترلاسه کول",IF(AND(L12>=0%,L12<50%),"د دویمه مرحلې نه ترلاسه کول")) -> د دویمه مرحلې نه ترلاسه کول | D12: =IF(AND(L12>=70%,L12<=100%),"د درېیمې مرحلې ترلاسه کول",IF(AND(L12>=0%,L12<70%),"د درېیمې مرحلې نه ترلاسه کول")) -> د درېیمې مرحلې نه ترلاسه کول | F12: 4 | H12: مالي سرچینې او د هغې مدیریت | I12: 0.08 | J12: =I661 -> 47 | L12: =(M12/J12)*1 -> 0 | M12: =M661 -> 0
B13: =IF(AND(L13>=40%,L13<=100%),"د لومړی مرحلې ترلاسه کول",IF(AND(L13>=0%,L13<40%),"د لومړی مرحلې نه ترلاسه کول")) -> د لومړی مرحلې نه ترلاسه کول | C13: =IF(AND(L13>=50%,L13<=100%),"د دویمه مرحلې ترلاسه کول",IF(AND(L13>=0%,L13<50%),"د دویمه مرحلې نه ترلاسه کول")) -> د دویمه مرحلې نه ترلاسه کول | D13: =IF(AND(L13>=80%,L13<=100%),"د درېیمې مرحلې ترلاسه کول",IF(AND(L13>=0%,L13<80%),"د درېیمې مرحلې نه ترلاسه کول")) -> د درېیمې مرحلې نه ترلاسه کول | F13: 5 | H13: علمي برنامې | I13: 0.14 | J13: =I715 -> 105 | L13: =(M13/J13)*1 -> 0 | M13: =M715 -> 0
B14: =IF(AND(L14>=30%,L14<=100%),"د لومړی مرحلې ترلاسه کول",IF(AND(L14>=0%,L14<30%),"د لومړی مرحلې نه ترلاسه کول")) -> د لومړی مرحلې نه ترلاسه کول | C14: =IF(AND(L14>=50%,L14<=100%),"د دویمه مرحلې ترلاسه کول",IF(AND(L14>=0%,L14<50%),"د دویمه مرحلې نه ترلاسه کول")) -> د دویمه مرحلې نه ترلاسه کول | D14: =IF(AND(L14>=70%,L14<=100%),"د درېیمې مرحلې ترلاسه کول",IF(AND(L14>=0%,L14<70%),"د درېیمې مرحلې نه ترلاسه کول")) -> د درېیمې مرحلې نه ترلاسه کول | F14: 6 | H14: څېړنه | I14: 0.1 | J14: =I824 -> 96 | L14: =(M14/J14)*1 -> 0 | M14: =M824 -> 0
B15: =IF(AND(L15>=50%,L15<=100%),"د لومړی مرحلې ترلاسه کول",IF(AND(L15>=0%,L15<50%),"د لومړی مرحلې نه ترلاسه کول")) -> د لومړی مرحلې نه ترلاسه کول | C15: =IF(AND(L15>=60%,L15<=100%),"د دویمه مرحلې ترلاسه کول",IF(AND(L15>=0%,L15<60%),"د دویمه مرحلې نه ترلاسه کول")) -> د دویمه مرحلې نه ترلاسه کول | D15: =IF(AND(L15>=80%,L15<=100%),"د درېیمې مرحلې ترلاسه کول",IF(AND(L15>=0%,L15<80%),"د درېیمې مرحلې نه ترلاسه کول")) -> د درېیمې مرحلې نه ترلاسه کول | F15: 7 | H15: استادان او کارکوونکي | I15: 0.09 | J15: =I905 -> 90 | L15: =(M15/J15)*1 -> 0 | M15: =M905 -> 0
B16: =IF(AND(L16>=40%,L16<=100%),"د لومړی مرحلې ترلاسه کول",IF(AND(L16>=0%,L16<40%),"د لومړی مرحلې نه ترلاسه کول")) -> د لومړی مرحلې نه ترلاسه کول | C16: =IF(AND(L16>=50%,L16<=100%),"د دویمه مرحلې ترلاسه کول",IF(AND(L16>=0%,L16<50%),"د دویمه مرحلې نه ترلاسه کول")) -> د دویمه مرحلې نه ترلاسه کول | D16: =IF(AND(L16>=80%,L16<=100%),"د درېیمې مرحلې ترلاسه کول",IF(AND(L16>=0%,L16<80%),"د درېیمې مرحلې نه ترلاسه کول")) -> د درېیمې مرحلې نه ترلاسه کول | F16: 8 | H16: د محصل تجربې | I16: 0.08 | J16: =I1020 -> 91 | L16: =(M16/J16)*1 -> 0 | M16: =M1020 -> 0
B17: =IF(AND(L17>=50%,L17<=100%),"د لومړی مرحلې ترلاسه کول",IF(AND(L17>=0%,L17<50%),"د لومړی مرحلې نه ترلاسه کول")) -> د لومړی مرحلې نه ترلاسه کول | C17: =IF(AND(L17>=60%,L17<=100%),"د دویمه مرحلې ترلاسه کول",IF(AND(L17>=0%,L17<60%),"د دویمه مرحلې نه ترلاسه کول")) -> د دویمه مرحلې نه ترلاسه کول | D17: =IF(AND(L17>=90%,L17<=100%),"د درېیمې مرحلې ترلاسه کول",IF(AND(L17>=0%,L17<90%),"د درېیمې مرحلې نه ترلاسه کول")) -> د درېیمې مرحلې نه ترلاسه کول | F17: 9 | H17: د کیفیت ښه والی او لوړول | I17: 0.04 | J17: =I1113 -> 42 | L17: =(M17/J17)*1 -> 0 | M17: =M1113 -> 0
B18: =IF(AND(L18>=40%,L18<=100%),"د لومړی مرحلې ترلاسه کول",IF(AND(L18>=0%,L18<40%),"د لومړی مرحلې نه ترلاسه کول")) -> د لومړی مرحلې نه ترلاسه کول | C18: =IF(AND(L18>=50%,L18<=100%),"د دویمه مرحلې ترلاسه کول",IF(AND(L18>=0%,L18<50%),"د دویمه مرحلې نه ترلاسه کول")) -> د دویمه مرحلې نه ترلاسه کول | D18: =IF(AND(L18>=80%,L18<=100%),"د درېیمې مرحلې ترلاسه کول",IF(AND(L18>=0%,L18<80%),"د درېیمې مرحلې نه ترلاسه کول")) -> د درېیمې مرحلې نه ترلاسه کول | F18: 10 | H18: کتابتون او معلوماتي سرچېنې | I18: 0.09 | J18: =I1162 -> 57 | L18: =(M18/J18)*1 -> 0 | M18: =M1162 -> 0
B19: =IF(AND(L19>=35%,L19<=100%),"د لومړی مرحلې ترلاسه کول",IF(AND(L19>=0%,L19<35%),"د لومړی مرحلې نه ترلاسه کول")) -> د لومړی مرحلې نه ترلاسه کول | C19: =IF(AND(L19>=50%,L19<=100%),"د دویمه مرحلې ترلاسه کول",IF(AND(L19>=0%,L19<50%),"د دویمه مرحلې نه ترلاسه کول")) -> د دویمه مرحلې نه ترلاسه کول | D19: =IF(AND(L19>=80%,L19<=100%),"د درېیمې مرحلې ترلاسه کول",IF(AND(L19>=0%,L19<80%),"د درېیمې مرحلې نه ترلاسه کول")) -> د درېیمې مرحلې نه ترلاسه کول | F19: 11 | H19: زیربنا، تدریسي اسانتیاوې او معلوماتي تکنالوژي | I19: 0.15 | J19: =I1215 -> 156 | L19: =(M19/J19)*1 -> 0 | M19: =M1215 -> 0
B20: =IF(AND(L20>=40%,L20<=100%),"د لومړی مرحلې ترلاسه کول",IF(AND(L20>=0%,L20<40%),"د لومړی مرحلې نه ترلاسه کول")) -> د لومړی مرحلې نه ترلاسه کول | C20: =IF(AND(L20>=60%,L20<=100%),"د دویمه مرحلې ترلاسه کول",IF(AND(L20>=0%,L20<60%),"د دویمه مرحلې نه ترلاسه کول")) -> د دویمه مرحلې نه ترلاسه کول | D20: =IF(AND(L20>=80%,L20<=100%),"د درېیمې مرحلې ترلاسه کول",IF(AND(L20>=0%,L20<80%),"د درېیمې مرحلې نه ترلاسه کول")) -> د درېیمې مرحلې نه ترلاسه کول | F20: د طب پوهنځې د فرعې معیارونو (1) شمېره مل پاڼې: د دې مل پاڼو توضیحات د تعریفاتو په برخه کې ذکر شوي دي. | I20: 0.15 | J20: =I1294 -> 242 | L20: =(M20/J20)*1 -> 0 | M20: =M1294 -> 0
F21: د اصلي معیارونو ټولې نومرې | I21: =SUM(J9:K20) -> 1116
F22: د اصلي معیارونو ټوله سلنه | I22: =I21*1/I21 -> 1
F23: د پوهنتون لخوا ټولې ترلاسه شوې نومرې | I23: =SUM(M9:M20) -> 0
F24: د پوهنتون لخوا ترلاسه شوې ټوله سلنه | I24: =I23*1/I21 -> 0
F25: د پوهنتون وضعیت | I25: =IF(AND(COUNTIF(B9:B20,"د لومړی مرحلې ترلاسه کول")=12,I24>=65%,COUNTIF(C9:C20,"د دویمه مرحلې ترلاسه کول")=12,I24>=75%,COUNTIF(D9:E20,"د درېیمې مرحلې ترلاسه کول")=12,I24>=85%), "د درېیمې مرحلې ترلاسه کول", IF(AND(COUNTIF(B9:B20,"د لومړی مرحلې ترلاسه کول")=12,I24>=65%,COUNTIF(C9:C20,"د دویمه مرحلې ترلاسه کول")=12,I24>=75%), "د دویمه مرحلې ترلاسه کول", IF(AND(COUNTIF(D9:E20,"د درېیمې مرحلې ترلاسه کول")=12,I24>=85%), "د درېیمې مرحلې ترلاسه کول", IF(AND(COUNTIF(B9:B20,"د لومړی مرحلې ترلاسه کول")=12,I24>=65%), "د لومړی مرحلې ترلاسه کول", "اعتبار نه ترلاسه کول")))) -> اعتبار نه ترلاسه کول
B26: د پوهنتون د کیفیت لوړاوي د اصلي کمېټې په ( ) ګڼه ( ) نېټې جلسه کې تائید شوی
B27: د پوهنتون د علمي شورا په ( ) ګڼه ( ) نېټې جلسه کې تائید شوی
B28: په درنښت | H28: په درنښت
B29: د علمي چارو مرستیال نوم د ولیکل شي | H29: د پوهنتون د رئیس نوم د ولیکل شي
B30: د پوهنتون علمي مرستیال .... | H30: د پوهنتون رئیس......
B31: د پوهنتون د علمي مرستیال ټاپه/مُهر | H31: د پوهنتون ټاپه/مُهر
A33: 1 | B33: د پوهنتون سره د اړیکې نیولو اړوند معلومات
A34: ګڼه | B34: شرح | E34: نوم | I34: د اړیکې شمېره
A35: 1 | B35: د پوهنتون رئیس
A36: 2 | B36: د علمي چارو مرستیال یا د هغه معادل
A37: 3 | B37: د کیفت لوړاوي آمر
A38: 4 | B38: د پوهنتون پته
A39: 5 | B39: ولایت
A41: 2 | B41: د مسلکي بیا کتنې پر وخت له پوهنتون سره لومړنۍ اړیکه
A42: دنده
...
